BEGIN:VCALENDAR
VERSION:2.0
PRODID:-//Salt Lake Symphony - ECPv6.15.20//NONSGML v1.0//EN
CALSCALE:GREGORIAN
METHOD:PUBLISH
X-WR-CALNAME:Salt Lake Symphony
X-ORIGINAL-URL:https://saltlakesymphony.org
X-WR-CALDESC:Events for Salt Lake Symphony
REFRESH-INTERVAL;VALUE=DURATION:PT1H
X-Robots-Tag:noindex
X-PUBLISHED-TTL:PT1H
BEGIN:VTIMEZONE
TZID:America/Denver
BEGIN:DAYLIGHT
TZOFFSETFROM:-0700
TZOFFSETTO:-0600
TZNAME:MDT
DTSTART:20040404T090000
END:DAYLIGHT
BEGIN:STANDARD
TZOFFSETFROM:-0600
TZOFFSETTO:-0700
TZNAME:MST
DTSTART:20041031T080000
END:STANDARD
BEGIN:DAYLIGHT
TZOFFSETFROM:-0700
TZOFFSETTO:-0600
TZNAME:MDT
DTSTART:20050403T090000
END:DAYLIGHT
BEGIN:STANDARD
TZOFFSETFROM:-0600
TZOFFSETTO:-0700
TZNAME:MST
DTSTART:20051030T080000
END:STANDARD
BEGIN:DAYLIGHT
TZOFFSETFROM:-0700
TZOFFSETTO:-0600
TZNAME:MDT
DTSTART:20060402T090000
END:DAYLIGHT
BEGIN:STANDARD
TZOFFSETFROM:-0600
TZOFFSETTO:-0700
TZNAME:MST
DTSTART:20061029T080000
END:STANDARD
BEGIN:DAYLIGHT
TZOFFSETFROM:-0700
TZOFFSETTO:-0600
TZNAME:MDT
DTSTART:20070311T090000
END:DAYLIGHT
BEGIN:STANDARD
TZOFFSETFROM:-0600
TZOFFSETTO:-0700
TZNAME:MST
DTSTART:20071104T080000
END:STANDARD
BEGIN:DAYLIGHT
TZOFFSETFROM:-0700
TZOFFSETTO:-0600
TZNAME:MDT
DTSTART:20080309T090000
END:DAYLIGHT
BEGIN:STANDARD
TZOFFSETFROM:-0600
TZOFFSETTO:-0700
TZNAME:MST
DTSTART:20081102T080000
END:STANDARD
BEGIN:DAYLIGHT
TZOFFSETFROM:-0700
TZOFFSETTO:-0600
TZNAME:MDT
DTSTART:20090308T090000
END:DAYLIGHT
BEGIN:STANDARD
TZOFFSETFROM:-0600
TZOFFSETTO:-0700
TZNAME:MST
DTSTART:20091101T080000
END:STANDARD
BEGIN:DAYLIGHT
TZOFFSETFROM:-0700
TZOFFSETTO:-0600
TZNAME:MDT
DTSTART:20100314T090000
END:DAYLIGHT
BEGIN:STANDARD
TZOFFSETFROM:-0600
TZOFFSETTO:-0700
TZNAME:MST
DTSTART:20101107T080000
END:STANDARD
END:VTIMEZONE
BEGIN:VEVENT
DTSTART;TZID=America/Denver:20091205T000000
DTEND;TZID=America/Denver:20091205T000000
DTSTAMP:20260419T144009
CREATED:20221003T180130Z
LAST-MODIFIED:20221003T180130Z
UID:2199-1259971200-1259971200@saltlakesymphony.org
SUMMARY:Christmas
DESCRIPTION:ConductorsMichael Huff\, Robert Baldwin \n\nHandel Messiah repeated Dec. 7 at Bountiful High School\n\nGuestUtah Voices\, chorus
URL:https://saltlakesymphony.org/event/christmas-3/
CATEGORIES:Concerts
END:VEVENT
BEGIN:VEVENT
DTSTART;TZID=America/Denver:20091107T000000
DTEND;TZID=America/Denver:20091107T000000
DTSTAMP:20260419T144009
CREATED:20221003T180130Z
LAST-MODIFIED:20221003T180130Z
UID:2198-1257552000-1257552000@saltlakesymphony.org
SUMMARY:Impression from the British Isles
DESCRIPTION:ConductorsRobert Baldwin \n\nElgar Concerto for Cello and orchestra Solo: John Eckstein\, cello\nMendelssohn Symphony #3\, Scottish\nVaughan Williams Overture to the Wasps
URL:https://saltlakesymphony.org/event/impression-from-the-british-isles/
CATEGORIES:Concerts
END:VEVENT
BEGIN:VEVENT
DTSTART;TZID=America/Denver:20090926T000000
DTEND;TZID=America/Denver:20090926T000000
DTSTAMP:20260419T144009
CREATED:20221003T180130Z
LAST-MODIFIED:20221003T180130Z
UID:2197-1253923200-1253923200@saltlakesymphony.org
SUMMARY:Concert
DESCRIPTION:ConductorsRobert Baldwin \n\nDvo?ák Symphony #9\, From the New World\nKodály Háry János Suite Solo: Igor Iachimciuc\, cimbalom
URL:https://saltlakesymphony.org/event/concert-87/
CATEGORIES:Concerts
END:VEVENT
BEGIN:VEVENT
DTSTART;TZID=America/Denver:20090516T000000
DTEND;TZID=America/Denver:20090516T000000
DTSTAMP:20260419T144009
CREATED:20221003T180126Z
LAST-MODIFIED:20221003T180126Z
UID:2195-1242432000-1242432000@saltlakesymphony.org
SUMMARY:A Night at the Opera
DESCRIPTION:ConductorsRobert Baldwin \n\nBernstein Glitter and be Gay from Candide Solo: Kate Smith\nDvo?ák Rusalka\, Song to the Moon Solo: Julie Reed\, mezzo\nGershwin Porgy and Bess selections\nMascagni Intermezzo from Cavaleria Rusticana\nPuccini Preludio Sinfonico\nRossini Cenerentola Sextet\nSmetana Dances from The Bartered Bride\nVerdi Grand March from Aida\nVerdi Rigoletto Quartet\nWagner Siegfried’s Rhine Journey from Götterdämmerung
URL:https://saltlakesymphony.org/event/a-night-at-the-opera/
CATEGORIES:Concerts
END:VEVENT
BEGIN:VEVENT
DTSTART;TZID=America/Denver:20090425T000000
DTEND;TZID=America/Denver:20090425T000000
DTSTAMP:20260419T144009
CREATED:20221003T180125Z
LAST-MODIFIED:20221003T180125Z
UID:2194-1240617600-1240617600@saltlakesymphony.org
SUMMARY:Concert
DESCRIPTION:ConductorsKory Katseanes \n\nAlfven Midsommarvaka (BYU conductor)\nGrieg Symphonic Dances\, op. 64\nMendelssohn Concerto #1 for piano (2006 Bachauer gold medalist) Solo: Stephen Beus\, piano
URL:https://saltlakesymphony.org/event/concert-86/
CATEGORIES:Concerts
END:VEVENT
BEGIN:VEVENT
DTSTART;TZID=America/Denver:20090321T000000
DTEND;TZID=America/Denver:20090321T000000
DTSTAMP:20260419T144009
CREATED:20221003T180125Z
LAST-MODIFIED:20221003T180125Z
UID:2193-1237593600-1237593600@saltlakesymphony.org
SUMMARY:From Paris to Vienna
DESCRIPTION:ConductorsRobert Baldwin \n\nBrahms Symphony #4\nRavel Le Tombeau de Couperin
URL:https://saltlakesymphony.org/event/from-paris-to-vienna/
CATEGORIES:Concerts
END:VEVENT
BEGIN:VEVENT
DTSTART;TZID=America/Denver:20090117T000000
DTEND;TZID=America/Denver:20090117T000000
DTSTAMP:20260419T144009
CREATED:20221003T180125Z
LAST-MODIFIED:20221003T180125Z
UID:2192-1232150400-1232150400@saltlakesymphony.org
SUMMARY:Clowning Around (family concert)
DESCRIPTION:ConductorsRobert Baldwin \n\nHaymen\, Richard Pops Hoedown\nHumperdinck Knusperwalzer Sayoko Knode\, choreography\nKabalevsky Comedians Gallop Solo: Jamie Allen\, mime\nMcKenzie\, Mark The Lion and the Mouse Solo: Gene Pack\, narrator\nMozart\, Leopold Toy Symphony\, 1st mvt.\nnan Sesame Street Overture Arr: Norris\, Lee\nRossini Overture to “Italian Girl in Algiers” high school side-by-side\nSherman\, Richard and Robert Disney’s Mary Poppins: a Symphonic Fantasy Arr: Irwin Kostal
URL:https://saltlakesymphony.org/event/clowning-around-family-concert/
CATEGORIES:Concerts
END:VEVENT
BEGIN:VEVENT
DTSTART;TZID=America/Denver:20081220T000000
DTEND;TZID=America/Denver:20081220T000000
DTSTAMP:20260419T144009
CREATED:20221003T180125Z
LAST-MODIFIED:20221003T180125Z
UID:2191-1229731200-1229731200@saltlakesymphony.org
SUMMARY:Concert
DESCRIPTION:ConductorsBrady Allred \n\nVaughan Williams Fantasia on Christmas Carols Solo: Darrell Babidge\, Baritone\nVaughan Williams Hodie (This Day): a Christmas Cantata (Dedicated to Jay Welch\, founding conductor of both groups)\n\nGuestWith Salt Lake Choral Artists
URL:https://saltlakesymphony.org/event/concert-85/
CATEGORIES:Concerts
END:VEVENT
BEGIN:VEVENT
DTSTART;TZID=America/Denver:20081108T000000
DTEND;TZID=America/Denver:20081108T000000
DTSTAMP:20260419T144009
CREATED:20221003T180120Z
LAST-MODIFIED:20221003T180120Z
UID:2190-1226102400-1226102400@saltlakesymphony.org
SUMMARY:Concert
DESCRIPTION:ConductorsRobert Baldwin \n\nBarber Music for a Scene from Shelley\nPaganini Violin Concerto #1 (youth division winner\,Stadivarius International Violin Competition) Solo: Mindy Chen\nRossini Overture to “Italian Girl in Algiers”\nSibelius En Saga
URL:https://saltlakesymphony.org/event/concert-84/
CATEGORIES:Concerts
END:VEVENT
BEGIN:VEVENT
DTSTART;TZID=America/Denver:20080927T000000
DTEND;TZID=America/Denver:20080927T000000
DTSTAMP:20260419T144009
CREATED:20221003T180120Z
LAST-MODIFIED:20221003T180120Z
UID:2189-1222473600-1222473600@saltlakesymphony.org
SUMMARY:Utah Voices
DESCRIPTION:ConductorsRobert Baldwin \n\nGates\, Crawford Ballad of the Prairie State\nMozart Exsultate\, jubilate Solo: Erin Morley\nTchaikovsky Symphony #2\, Little Russian
URL:https://saltlakesymphony.org/event/utah-voices-3/
CATEGORIES:Concerts
END:VEVENT
BEGIN:VEVENT
DTSTART;TZID=America/Denver:20080517T000000
DTEND;TZID=America/Denver:20080517T000000
DTSTAMP:20260419T144009
CREATED:20221003T180120Z
LAST-MODIFIED:20221003T180120Z
UID:2188-1210982400-1210982400@saltlakesymphony.org
SUMMARY:Music and Film Pops II\, Love and Heroes
DESCRIPTION:ConductorsRobert Baldwin \n\nAlford\, Kenneth Colonel Bogey March Bridge over the River Kwai\, 1957\nArlen\, Harold Wizard of Oz Selections Wizard of Oz\, 1939 Arr: Charles Sayre\nBarber Adagio for Strings Platoon\, 1986\nBeethoven Symphony #5\, allegro con brio Immortal Beloved\, 1994\nRózsa\, Miklós Suite from Ben Hur Ben Hur\, 1959\nWagner Siegfried’s Funeral Music  from Gõtterdämmerung Excalibur\, 1981\nWilliams\, John Raiders March Raiders of the Lost Ark\, 1980
URL:https://saltlakesymphony.org/event/music-and-film-pops-ii-love-and-heroes/
CATEGORIES:Concerts
END:VEVENT
BEGIN:VEVENT
DTSTART;TZID=America/Denver:20080419T000000
DTEND;TZID=America/Denver:20080419T000000
DTSTAMP:20260419T144009
CREATED:20221003T180120Z
LAST-MODIFIED:20221003T180120Z
UID:2187-1208563200-1208563200@saltlakesymphony.org
SUMMARY:Concert
DESCRIPTION:ConductorsGerald Elias \n\nBeethoven Symphony #5\nDoppler\, Franz Concerto for two Flutes and Orchestra Solo: Sergio Pallottelli and Susan Goodfellow\nWagner Overture to Die Meistersinger von Nürnberg
URL:https://saltlakesymphony.org/event/concert-83/
CATEGORIES:Concerts
END:VEVENT
BEGIN:VEVENT
DTSTART;TZID=America/Denver:20080315T000000
DTEND;TZID=America/Denver:20080315T000000
DTSTAMP:20260419T144009
CREATED:20221003T180119Z
LAST-MODIFIED:20221003T180119Z
UID:2186-1205539200-1205539200@saltlakesymphony.org
SUMMARY:Mahler in March
DESCRIPTION:ConductorsRobert Baldwin \n\nMahler Symphony #5
URL:https://saltlakesymphony.org/event/mahler-in-march/
CATEGORIES:Concerts
END:VEVENT
BEGIN:VEVENT
DTSTART;TZID=America/Denver:20080119T000000
DTEND;TZID=America/Denver:20080119T000000
DTSTAMP:20260419T144009
CREATED:20221003T180114Z
LAST-MODIFIED:20221003T180114Z
UID:2185-1200700800-1200700800@saltlakesymphony.org
SUMMARY:The Musical Managerie (family concert)
DESCRIPTION:ConductorsRobert Baldwin \n\nAnderson\, Leroy The Waltzing Cat\nBeethoven Creatures of Prometheus\nJohn\, Elton Disney’s The Lion King\, Orchestral Suite Score by Hans Zimmer Arr: Brad Kelley\nSaint-Saëns Carnival of the Animals Solo: Roland Steadham\, narrator\nWilliams\, John Themes from Jurassic Park Arr: Calvin Custer
URL:https://saltlakesymphony.org/event/the-musical-managerie-family-concert/
CATEGORIES:Concerts
END:VEVENT
BEGIN:VEVENT
DTSTART;TZID=America/Denver:20071214T000000
DTEND;TZID=America/Denver:20071215T000000
DTSTAMP:20260419T144009
CREATED:20221003T180114Z
LAST-MODIFIED:20221003T180114Z
UID:2183-1197590400-1197676800@saltlakesymphony.org
SUMMARY:Holiday Cheer
DESCRIPTION:ConductorsRobert Baldwin\, Brady Allred \n\ntraditional Christmas Festival program repeated 12/15/07 Arr: Anderson\, LeRoy\nBach Magnificat\nCourtney\, Craig A Musicological Journey Through the Twelve Days of Christmas\ntraditional The First Noel Arr: Dragon\, Carmen\ntraditional O Holy Night Arr: Dragon\, Carmen\ntraditional Carol of the Bells Arr: Hayman\, Richard\nHumperdinck Prayer and Dream Pantomime from Hansel and Gretel Solo: Carol Ann Allred\, Sarah Maughan
URL:https://saltlakesymphony.org/event/holiday-cheer/
CATEGORIES:Concerts
END:VEVENT
BEGIN:VEVENT
DTSTART;TZID=America/Denver:20071214T000000
DTEND;TZID=America/Denver:20071214T000000
DTSTAMP:20260419T144009
CREATED:20221003T180114Z
LAST-MODIFIED:20221003T180114Z
UID:2184-1197590400-1197590400@saltlakesymphony.org
SUMMARY:Concert
DESCRIPTION:ConductorsBrady Allred \n\nMark Riese Christmas Trilogy\, arr.\n\nGuestSalt Lake Choral Artists
URL:https://saltlakesymphony.org/event/concert-82/
CATEGORIES:Concerts
END:VEVENT
BEGIN:VEVENT
DTSTART;TZID=America/Denver:20071103T000000
DTEND;TZID=America/Denver:20071103T000000
DTSTAMP:20260419T144009
CREATED:20221003T180114Z
LAST-MODIFIED:20221003T180114Z
UID:2182-1194048000-1194048000@saltlakesymphony.org
SUMMARY:Concert
DESCRIPTION:ConductorsRobert Baldwin \n\nBrahms Hungarian Dance #1\nLiszt Totetanz for piano and orchestra (2006 Bachauer gold medalist) Solo: Stephen Beus
URL:https://saltlakesymphony.org/event/concert-81/
CATEGORIES:Concerts
END:VEVENT
BEGIN:VEVENT
DTSTART;TZID=America/Denver:20071006T000000
DTEND;TZID=America/Denver:20071006T000000
DTSTAMP:20260419T144009
CREATED:20221003T180113Z
LAST-MODIFIED:20221003T180113Z
UID:2181-1191628800-1191628800@saltlakesymphony.org
SUMMARY:Utah Voices
DESCRIPTION:ConductorsRobert Baldwin \n\nDvo?ák Symphony #7\nMillward\, Cliff Overture 1900 (Utah composer)\nMozart Sinfonie Concertanta\, K.297b (Soloists are our own principals) Solo: Hilary Coon\,Gary Merrell\, Bill Newton\, Jim Yehle
URL:https://saltlakesymphony.org/event/utah-voices-2/
CATEGORIES:Concerts
END:VEVENT
BEGIN:VEVENT
DTSTART;TZID=America/Denver:20070512T000000
DTEND;TZID=America/Denver:20070512T000000
DTSTAMP:20260419T144009
CREATED:20221003T180109Z
LAST-MODIFIED:20221003T180109Z
UID:2180-1178928000-1178928000@saltlakesymphony.org
SUMMARY:Music from Films
DESCRIPTION:ConductorsRobert Baldwin \n\nnan Themes from Star Trek through the years \nnan What’s Up at the Symphony (cartoon classics)\nBarry\, John Somewhere in Time\, Medley \nBernstein\, Elmar Theme from the Magnificant Seven \nBernstein West Side Story\, selections\nHermann\, Bernard Prelude to Psycho\nHolst “Mars” from the Planets\nMozart Symphony #25\, mvt. 1\nStrauss\, Richard Also Sprach Zarathustra\, Fanfare\nWilliams\, John Superman March\nWilliams\, John Schindker’s List\, Theme
URL:https://saltlakesymphony.org/event/music-from-films/
CATEGORIES:Concerts
END:VEVENT
BEGIN:VEVENT
DTSTART;TZID=America/Denver:20070421T000000
DTEND;TZID=America/Denver:20070427T000000
DTSTAMP:20260419T144009
CREATED:20221003T180109Z
LAST-MODIFIED:20221003T180109Z
UID:2179-1177113600-1177632000@saltlakesymphony.org
SUMMARY:Concert
DESCRIPTION:ConductorsBrady Allred \n\nBrahms  German Requiem Joint concert\n\nGuestSalt Lake Choral Artists
URL:https://saltlakesymphony.org/event/concert-80/
CATEGORIES:Concerts
END:VEVENT
BEGIN:VEVENT
DTSTART;TZID=America/Denver:20070317T000000
DTEND;TZID=America/Denver:20070317T000000
DTSTAMP:20260419T144009
CREATED:20221003T180109Z
LAST-MODIFIED:20221003T180109Z
UID:2178-1174089600-1174089600@saltlakesymphony.org
SUMMARY:Concert
DESCRIPTION:ConductorsRobert Baldwin \n\nCopland Billy the Kid Suite\nJones\, Samuel Let Us Now Praise Famous Men\nMarquez\, Arturo Danzon #2\nStill\, William Grant Symphony #2\, Afro-American Symphony
URL:https://saltlakesymphony.org/event/concert-79/
CATEGORIES:Concerts
END:VEVENT
BEGIN:VEVENT
DTSTART;TZID=America/Denver:20070120T000000
DTEND;TZID=America/Denver:20070120T000000
DTSTAMP:20260419T144009
CREATED:20221003T180109Z
LAST-MODIFIED:20221003T180109Z
UID:2177-1169251200-1169251200@saltlakesymphony.org
SUMMARY:The Magical Musical Weather Report (family concert
DESCRIPTION:ConductorsRobert Baldwin \n\nGrieg Peer Gynt\, Morning Mood\nGrofé Grand Canyon Suite\, Cloudburst\nRimsky-Korsakov Scheherazade\, Selections\nTchaikovsky Waltz of the Snowflakes from the Nutcracker\nVivaldi Four Seasons Solo: Elizabeth Palmer
URL:https://saltlakesymphony.org/event/the-magical-musical-weather-report-family-concert/
CATEGORIES:Concerts
END:VEVENT
BEGIN:VEVENT
DTSTART;TZID=America/Denver:20061208T000000
DTEND;TZID=America/Denver:20061208T000000
DTSTAMP:20260419T144009
CREATED:20221003T180109Z
LAST-MODIFIED:20221003T180109Z
UID:2176-1165536000-1165536000@saltlakesymphony.org
SUMMARY:Concert
DESCRIPTION:ConductorsRobert Baldwin \n\nMenotti Amahl and the Night Visitors Repeated 12/9/06 at Provo Tabernacle\n\nGuestUniversity Opera Theater
URL:https://saltlakesymphony.org/event/concert-78/
CATEGORIES:Concerts
END:VEVENT
BEGIN:VEVENT
DTSTART;TZID=America/Denver:20061128T000000
DTEND;TZID=America/Denver:20061128T000000
DTSTAMP:20260419T144009
CREATED:20221003T180104Z
LAST-MODIFIED:20221003T180104Z
UID:2175-1164672000-1164672000@saltlakesymphony.org
SUMMARY:Concert
DESCRIPTION:ConductorsBrady Allred \n\nOrff Carmina Burana This was a Choral Artist concert.  Repeated 10/29/06\n\nGuestUtah Choral Artists
URL:https://saltlakesymphony.org/event/concert-77/
CATEGORIES:Concerts
END:VEVENT
BEGIN:VEVENT
DTSTART;TZID=America/Denver:20061007T000000
DTEND;TZID=America/Denver:20061007T000000
DTSTAMP:20260419T144009
CREATED:20221003T180103Z
LAST-MODIFIED:20221003T180103Z
UID:2174-1160179200-1160179200@saltlakesymphony.org
SUMMARY:Utah Voices
DESCRIPTION:ConductorsRobert Baldwin \n\nPoulenc Double Piano Concerto Solo: Brown/England Piano Duo\nTchaikovsky Symphony #4\nWolking\, Henry Bear Songs
URL:https://saltlakesymphony.org/event/utah-voices/
CATEGORIES:Concerts
END:VEVENT
BEGIN:VEVENT
DTSTART;TZID=America/Denver:20060519T000000
DTEND;TZID=America/Denver:20060519T000000
DTSTAMP:20260419T144009
CREATED:20221003T180103Z
LAST-MODIFIED:20221003T180103Z
UID:2173-1147996800-1147996800@saltlakesymphony.org
SUMMARY:Concert
DESCRIPTION:ConductorsRobert Baldwin \n\nBrahms Piano Concerto #2 Solo: Heather Conner\nElias\, Gerald Overture in the Classical Style composer from Utah Symphony\nSchubert Symphony #8 (Unfinished)
URL:https://saltlakesymphony.org/event/concert-76/
CATEGORIES:Concerts
END:VEVENT
BEGIN:VEVENT
DTSTART;TZID=America/Denver:20060422T000000
DTEND;TZID=America/Denver:20060422T000000
DTSTAMP:20260419T144009
CREATED:20221003T180103Z
LAST-MODIFIED:20221003T180103Z
UID:2172-1145664000-1145664000@saltlakesymphony.org
SUMMARY:Concert
DESCRIPTION:ConductorsBarbara Ann Scowcroft \n\nPerna\, Dana Paul Songe de Voix Perdues for flute and strings Solo: Laurel Ann Maurer\, flute\nSaint-Saëns Bacchanale from Samson and Delilah\nSchubert Symphony #9 in C major (the “Great”)
URL:https://saltlakesymphony.org/event/concert-75/
CATEGORIES:Concerts
END:VEVENT
BEGIN:VEVENT
DTSTART;TZID=America/Denver:20060318T000000
DTEND;TZID=America/Denver:20060318T000000
DTSTAMP:20260419T144009
CREATED:20221003T180103Z
LAST-MODIFIED:20221003T180103Z
UID:2171-1142640000-1142640000@saltlakesymphony.org
SUMMARY:Concert
DESCRIPTION:ConductorsScott O’Neil \n\nBarber Toccata Festiva Solo: Don Cook\, Organ\nBrahms Nanie (Song of Lamentation)\nSibelius Symphony #2
URL:https://saltlakesymphony.org/event/concert-74/
CATEGORIES:Concerts
END:VEVENT
BEGIN:VEVENT
DTSTART;TZID=America/Denver:20060121T000000
DTEND;TZID=America/Denver:20060121T000000
DTSTAMP:20260419T144009
CREATED:20221003T180058Z
LAST-MODIFIED:20221003T180058Z
UID:2170-1137801600-1137801600@saltlakesymphony.org
SUMMARY:Evening in Vienna
DESCRIPTION:ConductorsRobert Baldwin \n\nGershwin By Strauss\nKalman\, Emmerich Eine Kleine Slowfox mit Mary from die Herzogen von Chicago Solo: Julie Wright Costa\nLehar Meine Lippin sie Kussen so heiss from Giuditta Solo: Julie Wright Costa\nLehar Vilja’s Song from Merry Widow Solo: Julie Wright Costa\nMahler Symphony #1\, first movement\nMozart Ah fuggi il traditor from Don Giovanni Solo: Julie Wright Costa\nMozart Die Entfuhrung aus dem Serail\, Overture\nRodgers and Hammerstein Sound of Music\, selections Solo: Julie Wright Costa\nSieczy?ski Wien\, Stadt meiner Traume Solo: Julie Wright Costa\nStrauss\, Johann Jr. Die Fledermaus\, Overture\nStrauss\, Johann Sr. Radetsky March\nStrauss\, Josef Delirien-Waltzer\nStrauss\, Josef Ohne Sorgen (Without Cares) Polka-schnell\nSuppe Poet and Peasant Overture
URL:https://saltlakesymphony.org/event/evening-in-vienna-16/
CATEGORIES:Concerts
END:VEVENT
BEGIN:VEVENT
DTSTART;TZID=America/Denver:20051221T000000
DTEND;TZID=America/Denver:20051221T000000
DTSTAMP:20260419T144009
CREATED:20221003T180058Z
LAST-MODIFIED:20221003T180058Z
UID:2169-1135123200-1135123200@saltlakesymphony.org
SUMMARY:Holiday concert
DESCRIPTION:ConductorsRobert Baldwin \n\nRutter Magnificat\n\nGuestSterling Singers\, chorus
URL:https://saltlakesymphony.org/event/holiday-concert-8/
CATEGORIES:Concerts
END:VEVENT
END:VCALENDAR