BEGIN:VCALENDAR
VERSION:2.0
PRODID:-//Salt Lake Symphony - ECPv6.15.20//NONSGML v1.0//EN
CALSCALE:GREGORIAN
METHOD:PUBLISH
X-WR-CALNAME:Salt Lake Symphony
X-ORIGINAL-URL:https://saltlakesymphony.org
X-WR-CALDESC:Events for Salt Lake Symphony
REFRESH-INTERVAL;VALUE=DURATION:PT1H
X-Robots-Tag:noindex
X-PUBLISHED-TTL:PT1H
BEGIN:VTIMEZONE
TZID:America/Denver
BEGIN:DAYLIGHT
TZOFFSETFROM:-0700
TZOFFSETTO:-0600
TZNAME:MDT
DTSTART:20010401T090000
END:DAYLIGHT
BEGIN:STANDARD
TZOFFSETFROM:-0600
TZOFFSETTO:-0700
TZNAME:MST
DTSTART:20011028T080000
END:STANDARD
BEGIN:DAYLIGHT
TZOFFSETFROM:-0700
TZOFFSETTO:-0600
TZNAME:MDT
DTSTART:20020407T090000
END:DAYLIGHT
BEGIN:STANDARD
TZOFFSETFROM:-0600
TZOFFSETTO:-0700
TZNAME:MST
DTSTART:20021027T080000
END:STANDARD
BEGIN:DAYLIGHT
TZOFFSETFROM:-0700
TZOFFSETTO:-0600
TZNAME:MDT
DTSTART:20030406T090000
END:DAYLIGHT
BEGIN:STANDARD
TZOFFSETFROM:-0600
TZOFFSETTO:-0700
TZNAME:MST
DTSTART:20031026T080000
END:STANDARD
BEGIN:DAYLIGHT
TZOFFSETFROM:-0700
TZOFFSETTO:-0600
TZNAME:MDT
DTSTART:20040404T090000
END:DAYLIGHT
BEGIN:STANDARD
TZOFFSETFROM:-0600
TZOFFSETTO:-0700
TZNAME:MST
DTSTART:20041031T080000
END:STANDARD
BEGIN:DAYLIGHT
TZOFFSETFROM:-0700
TZOFFSETTO:-0600
TZNAME:MDT
DTSTART:20050403T090000
END:DAYLIGHT
BEGIN:STANDARD
TZOFFSETFROM:-0600
TZOFFSETTO:-0700
TZNAME:MST
DTSTART:20051030T080000
END:STANDARD
BEGIN:DAYLIGHT
TZOFFSETFROM:-0700
TZOFFSETTO:-0600
TZNAME:MDT
DTSTART:20060402T090000
END:DAYLIGHT
BEGIN:STANDARD
TZOFFSETFROM:-0600
TZOFFSETTO:-0700
TZNAME:MST
DTSTART:20061029T080000
END:STANDARD
BEGIN:DAYLIGHT
TZOFFSETFROM:-0700
TZOFFSETTO:-0600
TZNAME:MDT
DTSTART:20070311T090000
END:DAYLIGHT
BEGIN:STANDARD
TZOFFSETFROM:-0600
TZOFFSETTO:-0700
TZNAME:MST
DTSTART:20071104T080000
END:STANDARD
END:VTIMEZONE
BEGIN:VEVENT
DTSTART;TZID=America/Denver:20061007T000000
DTEND;TZID=America/Denver:20061007T000000
DTSTAMP:20260419T171753
CREATED:20221003T180103Z
LAST-MODIFIED:20221003T180103Z
UID:2174-1160179200-1160179200@saltlakesymphony.org
SUMMARY:Utah Voices
DESCRIPTION:ConductorsRobert Baldwin \n\nPoulenc Double Piano Concerto Solo: Brown/England Piano Duo\nTchaikovsky Symphony #4\nWolking\, Henry Bear Songs
URL:https://saltlakesymphony.org/event/utah-voices/
CATEGORIES:Concerts
END:VEVENT
BEGIN:VEVENT
DTSTART;TZID=America/Denver:20060519T000000
DTEND;TZID=America/Denver:20060519T000000
DTSTAMP:20260419T171753
CREATED:20221003T180103Z
LAST-MODIFIED:20221003T180103Z
UID:2173-1147996800-1147996800@saltlakesymphony.org
SUMMARY:Concert
DESCRIPTION:ConductorsRobert Baldwin \n\nBrahms Piano Concerto #2 Solo: Heather Conner\nElias\, Gerald Overture in the Classical Style composer from Utah Symphony\nSchubert Symphony #8 (Unfinished)
URL:https://saltlakesymphony.org/event/concert-76/
CATEGORIES:Concerts
END:VEVENT
BEGIN:VEVENT
DTSTART;TZID=America/Denver:20060422T000000
DTEND;TZID=America/Denver:20060422T000000
DTSTAMP:20260419T171753
CREATED:20221003T180103Z
LAST-MODIFIED:20221003T180103Z
UID:2172-1145664000-1145664000@saltlakesymphony.org
SUMMARY:Concert
DESCRIPTION:ConductorsBarbara Ann Scowcroft \n\nPerna\, Dana Paul Songe de Voix Perdues for flute and strings Solo: Laurel Ann Maurer\, flute\nSaint-Saëns Bacchanale from Samson and Delilah\nSchubert Symphony #9 in C major (the “Great”)
URL:https://saltlakesymphony.org/event/concert-75/
CATEGORIES:Concerts
END:VEVENT
BEGIN:VEVENT
DTSTART;TZID=America/Denver:20060318T000000
DTEND;TZID=America/Denver:20060318T000000
DTSTAMP:20260419T171753
CREATED:20221003T180103Z
LAST-MODIFIED:20221003T180103Z
UID:2171-1142640000-1142640000@saltlakesymphony.org
SUMMARY:Concert
DESCRIPTION:ConductorsScott O’Neil \n\nBarber Toccata Festiva Solo: Don Cook\, Organ\nBrahms Nanie (Song of Lamentation)\nSibelius Symphony #2
URL:https://saltlakesymphony.org/event/concert-74/
CATEGORIES:Concerts
END:VEVENT
BEGIN:VEVENT
DTSTART;TZID=America/Denver:20060121T000000
DTEND;TZID=America/Denver:20060121T000000
DTSTAMP:20260419T171753
CREATED:20221003T180058Z
LAST-MODIFIED:20221003T180058Z
UID:2170-1137801600-1137801600@saltlakesymphony.org
SUMMARY:Evening in Vienna
DESCRIPTION:ConductorsRobert Baldwin \n\nGershwin By Strauss\nKalman\, Emmerich Eine Kleine Slowfox mit Mary from die Herzogen von Chicago Solo: Julie Wright Costa\nLehar Meine Lippin sie Kussen so heiss from Giuditta Solo: Julie Wright Costa\nLehar Vilja’s Song from Merry Widow Solo: Julie Wright Costa\nMahler Symphony #1\, first movement\nMozart Ah fuggi il traditor from Don Giovanni Solo: Julie Wright Costa\nMozart Die Entfuhrung aus dem Serail\, Overture\nRodgers and Hammerstein Sound of Music\, selections Solo: Julie Wright Costa\nSieczy?ski Wien\, Stadt meiner Traume Solo: Julie Wright Costa\nStrauss\, Johann Jr. Die Fledermaus\, Overture\nStrauss\, Johann Sr. Radetsky March\nStrauss\, Josef Delirien-Waltzer\nStrauss\, Josef Ohne Sorgen (Without Cares) Polka-schnell\nSuppe Poet and Peasant Overture
URL:https://saltlakesymphony.org/event/evening-in-vienna-16/
CATEGORIES:Concerts
END:VEVENT
BEGIN:VEVENT
DTSTART;TZID=America/Denver:20051221T000000
DTEND;TZID=America/Denver:20051221T000000
DTSTAMP:20260419T171753
CREATED:20221003T180058Z
LAST-MODIFIED:20221003T180058Z
UID:2169-1135123200-1135123200@saltlakesymphony.org
SUMMARY:Holiday concert
DESCRIPTION:ConductorsRobert Baldwin \n\nRutter Magnificat\n\nGuestSterling Singers\, chorus
URL:https://saltlakesymphony.org/event/holiday-concert-8/
CATEGORIES:Concerts
END:VEVENT
BEGIN:VEVENT
DTSTART;TZID=America/Denver:20051105T000000
DTEND;TZID=America/Denver:20051105T000000
DTSTAMP:20260419T171753
CREATED:20221003T180057Z
LAST-MODIFIED:20221003T180057Z
UID:2168-1131148800-1131148800@saltlakesymphony.org
SUMMARY:Children’s concert
DESCRIPTION:ConductorsRobert Baldwin \n\nHumperdinck Witches’ Ride from Hansel and Gretel\nKabalevsky Colas Bruegnon Overture\nTchaikovsky The Nutcracker (selections)\nWilliams\, John Harry Potter Suite\n\nGuestRoz Newmark\, dance leader
URL:https://saltlakesymphony.org/event/childrens-concert-2/
CATEGORIES:Concerts
END:VEVENT
BEGIN:VEVENT
DTSTART;TZID=America/Denver:20051008T000000
DTEND;TZID=America/Denver:20051008T000000
DTSTAMP:20260419T171753
CREATED:20221003T180057Z
LAST-MODIFIED:20221003T180057Z
UID:2167-1128729600-1128729600@saltlakesymphony.org
SUMMARY:Concert
DESCRIPTION:ConductorsRobert Baldwin \n\nBarber Second Essay\nProkofiev Lt. Kije Suite\nTchaikovsky Piano Concerto #1 Solo: Karen Hakobyan
URL:https://saltlakesymphony.org/event/concert-73/
CATEGORIES:Concerts
END:VEVENT
BEGIN:VEVENT
DTSTART;TZID=America/Denver:20050521T000000
DTEND;TZID=America/Denver:20050521T000000
DTSTAMP:20260419T171753
CREATED:20221003T180057Z
LAST-MODIFIED:20221003T180057Z
UID:2166-1116633600-1116633600@saltlakesymphony.org
SUMMARY:Concert
DESCRIPTION:With Dr. Robert Baldwin guest conducting\, the Salt Lake Symphony welcomes members of the Utah Symphony performing the Beethoven Triple Concerto. \nOpening the concert is “Ex Libris” a delightful piece by local composer Jeffrey Price\, written for the hallmark event of the dedication of the new Salt Lake City Library. \nBringing the concert to a close is Schumann’s tremendous Symphony #3\, “The Rhenish”. \nConductorsDr. Robert Baldwin \n\nPrice\, Jeffrey Ex Libris (conductor candidate)\nBeethoven Triple Concerto Solo: David Park\, Elliott Cheney\, Marjorie Janove\nSchumann Symphony #3 “Rhenish”
URL:https://saltlakesymphony.org/event/concert-72/
CATEGORIES:Concerts
END:VEVENT
BEGIN:VEVENT
DTSTART;TZID=America/Denver:20050422T000000
DTEND;TZID=America/Denver:20050422T000000
DTSTAMP:20260419T171753
CREATED:20221003T180053Z
LAST-MODIFIED:20221003T180053Z
UID:2165-1114128000-1114128000@saltlakesymphony.org
SUMMARY:Concert
DESCRIPTION:ConductorsDr. Todd Fiegel \n\nBerlioz Symphonie Fantastique (conductor candidate)\nDukas Fanfare from La Peri\nVizutti\, Allen Rising Sun Solo: Jens Lindemann
URL:https://saltlakesymphony.org/event/concert-71/
CATEGORIES:Concerts
END:VEVENT
BEGIN:VEVENT
DTSTART;TZID=America/Denver:20050312T000000
DTEND;TZID=America/Denver:20050312T000000
DTSTAMP:20260419T171753
CREATED:20221003T180053Z
LAST-MODIFIED:20221003T180053Z
UID:2164-1110585600-1110585600@saltlakesymphony.org
SUMMARY:Concert
DESCRIPTION:ConductorsJuan Carlos Lomonaco \n\nDe Falla Three Cornered Hat Suite Solo: Rebecca Brandt Hample\nRavel Pavane pour une Infante Defunte\nRavel Tzigane Solo: Elizabeth Palmer\nRimsky-Korsakov Procession of the Nobles
URL:https://saltlakesymphony.org/event/concert-70/
CATEGORIES:Concerts
END:VEVENT
BEGIN:VEVENT
DTSTART;TZID=America/Denver:20050129T000000
DTEND;TZID=America/Denver:20050129T000000
DTSTAMP:20260419T171753
CREATED:20221003T180053Z
LAST-MODIFIED:20221003T180053Z
UID:2163-1106956800-1106956800@saltlakesymphony.org
SUMMARY:Evening in Vienna
DESCRIPTION:ConductorsDr. Todd Fiegel \n\nLehar Vilja’s Song from Merry Widow (conductor candidate) Solo: Rebecca Brandt Hample\nLehar Yours is may Heart Alone Solo: Rebecca Brandt Hample\nRodgers and Hammerstein Sound of Music (selections) Solo: Rebecca Brandt Hample\nSieczy?ski Vienna\, City of my Dreams Solo: Rebecca Brandt Hample\nStrauss\, Johann Jr. At the Hunt\nStrauss\, Johann Jr. Egyptian March\nStrauss\, Johann Jr. Tales from the Vienna Woods\nStrauss\, Johann Jr. Radetzky March\nStrauss\, Johann Jr. Czardas from Die Fledermaus Solo: Rebecca Brandt Hample\nSuppe Light Cavalry Overture\nWeber Invitation to the Dance Arr: Berlioz
URL:https://saltlakesymphony.org/event/evening-in-vienna-15/
CATEGORIES:Concerts
END:VEVENT
BEGIN:VEVENT
DTSTART;TZID=America/Denver:20041211T000000
DTEND;TZID=America/Denver:20041211T000000
DTSTAMP:20260419T171753
CREATED:20221003T180052Z
LAST-MODIFIED:20221003T180052Z
UID:2162-1102723200-1102723200@saltlakesymphony.org
SUMMARY:Holiday Concert
DESCRIPTION:ConductorsDr. Michael Huff \n\nAnderson\, Leroy A Christmas Festival (conductor candidate)\nGawthrop\, Daniel E. This Child\, This King\nHandel Hallelujah Chorus from Messiah\nLentovich\, Mikola Carol of the Bells\nPayne\, I. Reed When Joseph Went to Bethlehem\nRespighi The Adoration of the Magi\ntraditional I Saw Three Ships Arr: Mack Wilberg\ntraditional Infant Holy\, Lowly Arr: Mack Wilberg\ntraditional One December Bright and Clear Arr: Mack Wilberg\ntraditional Whence That Goodly Fragrance? Arr: Mack Wilberg\ntraditional Come Thou Long Expected Savior Arr: Mack Wilberg\ntraditional The First Noel Arr: Mack Wilberg\nVaughan Williams Fantasia on Greensleeves
URL:https://saltlakesymphony.org/event/holiday-concert-7/
CATEGORIES:Concerts
END:VEVENT
BEGIN:VEVENT
DTSTART;TZID=America/Denver:20041112T000000
DTEND;TZID=America/Denver:20041112T000000
DTSTAMP:20260419T171753
CREATED:20221003T180052Z
LAST-MODIFIED:20221003T180052Z
UID:2161-1100217600-1100217600@saltlakesymphony.org
SUMMARY:Concert
DESCRIPTION:ConductorsDr. Michael Huff \n\nKhachaturian Concerto for Piano and Orchestra (conductor candidate) Solo: Dickran Atamian\nShostakovich Festive Overture\nTchaikovsky Symphony #6
URL:https://saltlakesymphony.org/event/concert-69/
CATEGORIES:Concerts
END:VEVENT
BEGIN:VEVENT
DTSTART;TZID=America/Denver:20040924T000000
DTEND;TZID=America/Denver:20040924T000000
DTSTAMP:20260419T171753
CREATED:20221003T180047Z
LAST-MODIFIED:20221003T180047Z
UID:2160-1095984000-1095984000@saltlakesymphony.org
SUMMARY:Concert
DESCRIPTION:ConductorsDr. Todd Fiegel \n\nDvo?ák Symphony #6 (conductor candidate)\nDvo?ák Serenade for Strings
URL:https://saltlakesymphony.org/event/concert-68/
CATEGORIES:Concerts
END:VEVENT
BEGIN:VEVENT
DTSTART;TZID=America/Denver:20040522T000000
DTEND;TZID=America/Denver:20040522T000000
DTSTAMP:20260419T171753
CREATED:20221003T180046Z
LAST-MODIFIED:20221003T180046Z
UID:2159-1085184000-1085184000@saltlakesymphony.org
SUMMARY:Concert
DESCRIPTION:ConductorsJames Caswell \n\nBeethoven Symphony #7\nDebussy Nocturnes  I.Nuages and II. Fetes  Subject for “Draw the Music” art by Highland High students shown in the lobby\nMozart Impressario Overture
URL:https://saltlakesymphony.org/event/concert-67/
CATEGORIES:Concerts
END:VEVENT
BEGIN:VEVENT
DTSTART;TZID=America/Denver:20040507T000000
DTEND;TZID=America/Denver:20040508T000000
DTSTAMP:20260419T171753
CREATED:20221003T180046Z
LAST-MODIFIED:20221003T180046Z
UID:2158-1083888000-1083974400@saltlakesymphony.org
SUMMARY:Children’s Concert
DESCRIPTION:ConductorsJames Caswell \n\nHaydn Toy Symphony Solo: Craig McKennon\, Zeph Smith\, Jeremy Freed\nMozart Impressario Overture Solo: Joyce Mahoney (commentary)\nProkofiev Peter and the Wolf Solo: Bob Welti\nRimsky-Korsakov Dance of the Buffoons\n\nGuestTobin & Gavin Yehle\, Lauren Toone\, Heather Mahoney\, musical toys
URL:https://saltlakesymphony.org/event/childrens-concert/
CATEGORIES:Concerts
END:VEVENT
BEGIN:VEVENT
DTSTART;TZID=America/Denver:20040303T000000
DTEND;TZID=America/Denver:20040303T000000
DTSTAMP:20260419T171753
CREATED:20221003T180046Z
LAST-MODIFIED:20221003T180046Z
UID:2157-1078272000-1078272000@saltlakesymphony.org
SUMMARY:Concert
DESCRIPTION:ConductorsJames Caswell \n\nGershwin American in Paris\nRavel Piano Concerto in G Solo: Marjorie Janove\, piano\nRimsky-Korsakov Russian Easter Overture Side-by-side with students
URL:https://saltlakesymphony.org/event/concert-66/
CATEGORIES:Concerts
END:VEVENT
BEGIN:VEVENT
DTSTART;TZID=America/Denver:20040131T000000
DTEND;TZID=America/Denver:20040131T000000
DTSTAMP:20260419T171753
CREATED:20221003T180046Z
LAST-MODIFIED:20221003T180046Z
UID:2156-1075507200-1075507200@saltlakesymphony.org
SUMMARY:Evening in Vienna
DESCRIPTION:ConductorsJames Caswell \n\nBrahms Hungarian Dances #5 and #6\nCoward\, Noel Zigeuner (from Bittersweet) (Solo last minute substitute for Julie Wright-Costa) Solo: Celena Shafer\, soprano\nKreisler\, Fritz Tambourin chinois Solo: Elizabeth Palmer\, violin\nLehar Heut’ noch werd’ ich Ehefrau (Count of Luxemb.) (Solo last minute substitute for Julie Wright-Costa) Solo: Celena Shafer\, soprano\nLehar Meine Lippen sie kussen so heiss (Celena seduced James on stage) Solo: Celena Shafer\, soprano\nNicolai Merry Wives of Windsor\, Overture\nPuccini Musetta’s Waltz (La Boheme) (Solo last minute substitute for Julie Wright-Costa) Solo: Celena Shafer\, soprano\nSieczy?ski Vienna\, City of my Dreams (Solo last minute substitute for Julie Wright-Costa) Solo: Celena Shafer\, soprano\nStrauss\, Johann Jr. Emperor Waltzes\nStrauss\, Johann Jr. Furioso Polka\nStrauss\, Johann Jr. Tales from the Vienna Woods\nStrauss\, Josef and Johann Jr. Pizzicato Polka (Strings only)\nStrauss\, Johann Sr. Radetzky March
URL:https://saltlakesymphony.org/event/evening-in-vienna-14/
CATEGORIES:Concerts
END:VEVENT
BEGIN:VEVENT
DTSTART;TZID=America/Denver:20031206T000000
DTEND;TZID=America/Denver:20031206T000000
DTSTAMP:20260419T171753
CREATED:20221003T180041Z
LAST-MODIFIED:20221003T180041Z
UID:2155-1070668800-1070668800@saltlakesymphony.org
SUMMARY:Holiday concert
DESCRIPTION:ConductorsJames Caswell \n\nBarber Die Natali\ntraditional Christmas Medley Arr: Harris\, Arthur\nRebikoff Der Christbaum (Cristmas Tree) Suite (selections)\nTchaikovsky Nutcracker Suite (selections)
URL:https://saltlakesymphony.org/event/holiday-concert-6/
CATEGORIES:Concerts
END:VEVENT
BEGIN:VEVENT
DTSTART;TZID=America/Denver:20031114T000000
DTEND;TZID=America/Denver:20031114T000000
DTSTAMP:20260419T171753
CREATED:20221003T180041Z
LAST-MODIFIED:20221003T180041Z
UID:2154-1068768000-1068768000@saltlakesymphony.org
SUMMARY:Concert
DESCRIPTION:ConductorsJuan Carlos Lomonaco \n\nBizet Symphony #1 in C major (Conductor exchange\, Carlos Chavez Symphony\, Mexico City)\nHummel Trumpet Concerto in E flat major (Conductor exchange\, Carlos Chavez Symphony\, Mexico City) Solo: Geoff Stevens\, trumpet\nMendelssohn Midsummer Night’s Dream\, Overture (Conductor exchange\, Carlos Chavez Symphony\, Mexico City)
URL:https://saltlakesymphony.org/event/concert-65/
CATEGORIES:Concerts
END:VEVENT
BEGIN:VEVENT
DTSTART;TZID=America/Denver:20030926T000000
DTEND;TZID=America/Denver:20030926T000000
DTSTAMP:20260419T171753
CREATED:20221003T180041Z
LAST-MODIFIED:20221003T180041Z
UID:2153-1064534400-1064534400@saltlakesymphony.org
SUMMARY:New Utah Voices
DESCRIPTION:ConductorsJames Caswell \n\nBrahms Symphony #1\nManookian\, Jeff Concerto for Piccolo and Orchestra U. S. premier\, composer present Solo: Laurel Ann Maurer\, flute\nNelson\, Marie Barker Symphonic Fantasy on Orpheus Lex Utah premier\, composer present
URL:https://saltlakesymphony.org/event/new-utah-voices-2/
CATEGORIES:Concerts
END:VEVENT
BEGIN:VEVENT
DTSTART;TZID=America/Denver:20030517T000000
DTEND;TZID=America/Denver:20030517T000000
DTSTAMP:20260419T171753
CREATED:20221003T180041Z
LAST-MODIFIED:20221003T180041Z
UID:2152-1053129600-1053129600@saltlakesymphony.org
SUMMARY:Children and Art
DESCRIPTION:ConductorsJames Caswell \n\nBeethoven Piano Concerto #3 Solo: Marjorie Janove\nBorodin Prince Igor\, Overture\nProkofiev Romeo and Juliet Suite
URL:https://saltlakesymphony.org/event/children-and-art/
CATEGORIES:Concerts
END:VEVENT
BEGIN:VEVENT
DTSTART;TZID=America/Denver:20030404T000000
DTEND;TZID=America/Denver:20030404T000000
DTSTAMP:20260419T171753
CREATED:20221003T180041Z
LAST-MODIFIED:20221003T180041Z
UID:2151-1049414400-1049414400@saltlakesymphony.org
SUMMARY:Children and Dance
DESCRIPTION:ConductorsJames Caswell \n\nBach Fugue in G minor\nProkofiev Peter and the Wolf Solo: Dick Norse\, narrator\nRossini William Tell Overture\nTchaikovsky 1812 Overture
URL:https://saltlakesymphony.org/event/children-and-dance/
CATEGORIES:Concerts
END:VEVENT
BEGIN:VEVENT
DTSTART;TZID=America/Denver:20030315T000000
DTEND;TZID=America/Denver:20030315T000000
DTSTAMP:20260419T171753
CREATED:20221003T180037Z
LAST-MODIFIED:20221003T180037Z
UID:2150-1047686400-1047686400@saltlakesymphony.org
SUMMARY:19th Century Nationalism
DESCRIPTION:ConductorsJames Caswell \n\nBerlioz Roman Carnival Overture\nElgar Enigma Variations\nGlazounov Le Printemps
URL:https://saltlakesymphony.org/event/19th-century-nationalism/
CATEGORIES:Concerts
END:VEVENT
BEGIN:VEVENT
DTSTART;TZID=America/Denver:20030131T000000
DTEND;TZID=America/Denver:20030131T000000
DTSTAMP:20260419T171753
CREATED:20221003T180036Z
LAST-MODIFIED:20221003T180036Z
UID:2149-1043971200-1043971200@saltlakesymphony.org
SUMMARY:Evening in Vienna
DESCRIPTION:ConductorsJames Caswell \n\nDvo?ák Slavonic Dances Lacking complete program\nLehar “Duett” from the Merry Widow Solo: Erin Palmer\, Soprano\nPuccini “Oh! Mio Babbino Caro” from Gianni Schicchi Solo: Erin Palmer\, Soprano\nSieczy?ski Vienna City of my Dreams Solo: Erin Palmer\, Soprano\nStrauss\, Johann Jr. Banditen-Galopp\nStrauss\, Johann Jr. Blue Danube Waltz\nStrauss\, Johann Sr. Radetzky March
URL:https://saltlakesymphony.org/event/evening-in-vienna-13/
CATEGORIES:Concerts
END:VEVENT
BEGIN:VEVENT
DTSTART;TZID=America/Denver:20021206T000000
DTEND;TZID=America/Denver:20021206T000000
DTSTAMP:20260419T171753
CREATED:20221003T180036Z
LAST-MODIFIED:20221003T180036Z
UID:2148-1039132800-1039132800@saltlakesymphony.org
SUMMARY:Holiday concert
DESCRIPTION:ConductorsJames Caswell \n\nAnderson\, Leroy A Christmas Festival\nBach Sheep may safely graze\nBach Sinfonia from Christmas Oratorio\nBrahms Low how a rose ere blooming \nCasals\, Pablo O vos omnes\nGade\, Niels Christmas eve suite\nGounod Ave Maria\nGrainger The Sussex mummer christmas carol\nHolst In the bleak midwinter\nMendelssohn There shall a star come out of Jacob \nProkofiev Lieutenant Kije\, Troika
URL:https://saltlakesymphony.org/event/holiday-concert-5/
CATEGORIES:Concerts
END:VEVENT
BEGIN:VEVENT
DTSTART;TZID=America/Denver:20021115T000000
DTEND;TZID=America/Denver:20021115T000000
DTSTAMP:20260419T171753
CREATED:20221003T180036Z
LAST-MODIFIED:20221003T180036Z
UID:2147-1037318400-1037318400@saltlakesymphony.org
SUMMARY:Back to the Classics
DESCRIPTION:ConductorsJames Caswell \n\nBeethoven Symphony #4\nMendelssohn Hebrides Overture\nMozart Concerto for Flute and Orchestra Solo: Laurel Ann Maurer\, flute
URL:https://saltlakesymphony.org/event/back-to-the-classics/
CATEGORIES:Concerts
END:VEVENT
BEGIN:VEVENT
DTSTART;TZID=America/Denver:20021006T000000
DTEND;TZID=America/Denver:20021006T000000
DTSTAMP:20260419T171753
CREATED:20221003T180020Z
LAST-MODIFIED:20221003T180020Z
UID:2138-1033862400-1033862400@saltlakesymphony.org
SUMMARY:Concert
DESCRIPTION:ConductorsJames Caswell \n\nHolst The Planets\nNelson\, Marie Barker Symphony of the Millenium World premier\nRavel Une barque sur l’ocean
URL:https://saltlakesymphony.org/event/concert-62/
CATEGORIES:Concerts
END:VEVENT
BEGIN:VEVENT
DTSTART;TZID=America/Denver:20021004T000000
DTEND;TZID=America/Denver:20021004T000000
DTSTAMP:20260419T171753
CREATED:20221003T180036Z
LAST-MODIFIED:20221003T180036Z
UID:2146-1033689600-1033689600@saltlakesymphony.org
SUMMARY:New Utah Voices
DESCRIPTION:ConductorsJeff Manookian\, James Caswell \n\nArutiunian\, Alexander Concerto fo Trumpet and Orchestra Solo: James Caswell\, trumpet\nStravinsky Patroushka\nWolking\, Henry Salt Lake Overture 2002
URL:https://saltlakesymphony.org/event/new-utah-voices/
CATEGORIES:Concerts
END:VEVENT
END:VCALENDAR