BEGIN:VCALENDAR
VERSION:2.0
PRODID:-//Salt Lake Symphony - ECPv6.15.20//NONSGML v1.0//EN
CALSCALE:GREGORIAN
METHOD:PUBLISH
X-WR-CALNAME:Salt Lake Symphony
X-ORIGINAL-URL:https://saltlakesymphony.org
X-WR-CALDESC:Events for Salt Lake Symphony
REFRESH-INTERVAL;VALUE=DURATION:PT1H
X-Robots-Tag:noindex
X-PUBLISHED-TTL:PT1H
BEGIN:VTIMEZONE
TZID:America/Denver
BEGIN:DAYLIGHT
TZOFFSETFROM:-0700
TZOFFSETTO:-0600
TZNAME:MDT
DTSTART:19940403T090000
END:DAYLIGHT
BEGIN:STANDARD
TZOFFSETFROM:-0600
TZOFFSETTO:-0700
TZNAME:MST
DTSTART:19941030T080000
END:STANDARD
BEGIN:DAYLIGHT
TZOFFSETFROM:-0700
TZOFFSETTO:-0600
TZNAME:MDT
DTSTART:19950402T090000
END:DAYLIGHT
BEGIN:STANDARD
TZOFFSETFROM:-0600
TZOFFSETTO:-0700
TZNAME:MST
DTSTART:19951029T080000
END:STANDARD
BEGIN:DAYLIGHT
TZOFFSETFROM:-0700
TZOFFSETTO:-0600
TZNAME:MDT
DTSTART:19960407T090000
END:DAYLIGHT
BEGIN:STANDARD
TZOFFSETFROM:-0600
TZOFFSETTO:-0700
TZNAME:MST
DTSTART:19961027T080000
END:STANDARD
BEGIN:DAYLIGHT
TZOFFSETFROM:-0700
TZOFFSETTO:-0600
TZNAME:MDT
DTSTART:19970406T090000
END:DAYLIGHT
BEGIN:STANDARD
TZOFFSETFROM:-0600
TZOFFSETTO:-0700
TZNAME:MST
DTSTART:19971026T080000
END:STANDARD
BEGIN:DAYLIGHT
TZOFFSETFROM:-0700
TZOFFSETTO:-0600
TZNAME:MDT
DTSTART:19980405T090000
END:DAYLIGHT
BEGIN:STANDARD
TZOFFSETFROM:-0600
TZOFFSETTO:-0700
TZNAME:MST
DTSTART:19981025T080000
END:STANDARD
BEGIN:DAYLIGHT
TZOFFSETFROM:-0700
TZOFFSETTO:-0600
TZNAME:MDT
DTSTART:19990404T090000
END:DAYLIGHT
BEGIN:STANDARD
TZOFFSETFROM:-0600
TZOFFSETTO:-0700
TZNAME:MST
DTSTART:19991031T080000
END:STANDARD
BEGIN:DAYLIGHT
TZOFFSETFROM:-0700
TZOFFSETTO:-0600
TZNAME:MDT
DTSTART:20000402T090000
END:DAYLIGHT
BEGIN:STANDARD
TZOFFSETFROM:-0600
TZOFFSETTO:-0700
TZNAME:MST
DTSTART:20001029T080000
END:STANDARD
BEGIN:DAYLIGHT
TZOFFSETFROM:-0700
TZOFFSETTO:-0600
TZNAME:MDT
DTSTART:20010401T090000
END:DAYLIGHT
BEGIN:STANDARD
TZOFFSETFROM:-0600
TZOFFSETTO:-0700
TZNAME:MST
DTSTART:20011028T080000
END:STANDARD
BEGIN:DAYLIGHT
TZOFFSETFROM:-0700
TZOFFSETTO:-0600
TZNAME:MDT
DTSTART:20020407T090000
END:DAYLIGHT
BEGIN:STANDARD
TZOFFSETFROM:-0600
TZOFFSETTO:-0700
TZNAME:MST
DTSTART:20021027T080000
END:STANDARD
END:VTIMEZONE
BEGIN:VEVENT
DTSTART;TZID=America/Denver:20010126T000000
DTEND;TZID=America/Denver:20010126T000000
DTSTAMP:20260420T171959
CREATED:20221003T180008Z
LAST-MODIFIED:20221003T180008Z
UID:2132-980467200-980467200@saltlakesymphony.org
SUMMARY:Evening in Vienna
DESCRIPTION:ConductorsJames Caswell \n\nBrahms Hungariun Dances nos. 1\, 3 & 10\nPuccini Si mi chiamano Mimi from la Boheme Solo: Lindsay Killian\nSieczy?ski Vienna City of my Dreams Solo: Lindsay Killian\nStrauss\, Johann Jr. Die Fledermaaus\, Overture\nStrauss\, Johann Jr. Donner und Blitzen Polka\nStrauss\, Johann Jr. Klange der Heimat from Die Fledermaus Solo: Lindsay Killian\nStrauss\, Johann Jr. Rosen aus dem Suden Waltzes\nStrauss\, Johann Jr. Wiener Blut Waltzes\nStrauss\, Johann Sr. Radetsky March
URL:https://saltlakesymphony.org/event/evening-in-vienna-11/
CATEGORIES:Concerts
END:VEVENT
BEGIN:VEVENT
DTSTART;TZID=America/Denver:20001208T000000
DTEND;TZID=America/Denver:20001208T000000
DTSTAMP:20260420T171959
CREATED:20221003T180008Z
LAST-MODIFIED:20221003T180008Z
UID:2131-976233600-976233600@saltlakesymphony.org
SUMMARY:Holiday Concert
DESCRIPTION:ConductorsJames Caswell \n\nBrahms Lo\, How a Rose E’er Blooming\nMartin\, Hugh Have Yourself a Merry Little Christmas Arr: Gold\, Marty\nHumperdinck Hansel and Gretel Prelude\nVaughan Williams Fantasia on Gleensleeves
URL:https://saltlakesymphony.org/event/holiday-concert-3/
CATEGORIES:Concerts
END:VEVENT
BEGIN:VEVENT
DTSTART;TZID=America/Denver:20001117T000000
DTEND;TZID=America/Denver:20001117T000000
DTSTAMP:20260420T171959
CREATED:20221003T180004Z
LAST-MODIFIED:20221003T180004Z
UID:2130-974419200-974419200@saltlakesymphony.org
SUMMARY:Concert
DESCRIPTION:ConductorsJames Caswell \n\nBach Orchestral Suite #3\nCopland Appalachian Spring\nRespighi Ancient Airs & Dances\, Set II
URL:https://saltlakesymphony.org/event/concert-59/
CATEGORIES:Concerts
END:VEVENT
BEGIN:VEVENT
DTSTART;TZID=America/Denver:20000519T000000
DTEND;TZID=America/Denver:20000520T000000
DTSTAMP:20260420T171959
CREATED:20221003T180004Z
LAST-MODIFIED:20221003T180004Z
UID:2129-958694400-958780800@saltlakesymphony.org
SUMMARY:Concert
DESCRIPTION:ConductorsJames Caswell \n\nBorodin In the Steppes of Central Aisia\nRimsky-Korsakov Scheherezade Solo: Elizabeth Palmer\nTchaikovsky Violin Concerto Solo: Zina Schiff
URL:https://saltlakesymphony.org/event/concert-58/
CATEGORIES:Concerts
END:VEVENT
BEGIN:VEVENT
DTSTART;TZID=America/Denver:20000331T000000
DTEND;TZID=America/Denver:20000331T000000
DTSTAMP:20260420T171959
CREATED:20221003T180003Z
LAST-MODIFIED:20221003T180003Z
UID:2128-954460800-954460800@saltlakesymphony.org
SUMMARY:Utah Flute Association Concerto Night
DESCRIPTION:ConductorsJames Caswell \n\nBach Suite in B Minor\nDevienne\, Franccois Concerto #7 in E Minor for Flute Solo: Holly Hubbard\, Margaret Bennett\nGrety\, E.M. Concerto in C Major for Flute Solo: Rachel-Lynne Cannon & Natalie Jackson\nGriffes Poem Winner\, Summerhays Flute Competition Solo: Monica Daniel\nStamitz\, Carl Concerto in G Major for Flute Solo: Cassidy Pratt\, Alison Hazen\, Alison Welch\n\nGuestFlute Association Students
URL:https://saltlakesymphony.org/event/utah-flute-association-concerto-night/
CATEGORIES:Concerts
END:VEVENT
BEGIN:VEVENT
DTSTART;TZID=America/Denver:20000317T000000
DTEND;TZID=America/Denver:20000317T000000
DTSTAMP:20260420T171959
CREATED:20221003T180003Z
LAST-MODIFIED:20221003T180003Z
UID:2127-953251200-953251200@saltlakesymphony.org
SUMMARY:Concert
DESCRIPTION:ConductorsJames Caswell \n\nMozart Overture to the Marriage of Figaro\nShostakovich Symphony #5\nStrauss\, Richard Till Eulenspiegel’s Merry Pranks
URL:https://saltlakesymphony.org/event/concert-57/
CATEGORIES:Concerts
END:VEVENT
BEGIN:VEVENT
DTSTART;TZID=America/Denver:19991120T000000
DTEND;TZID=America/Denver:19991120T000000
DTSTAMP:20260420T171959
CREATED:20221003T180003Z
LAST-MODIFIED:20221003T180003Z
UID:2126-943056000-943056000@saltlakesymphony.org
SUMMARY:Concert
DESCRIPTION:ConductorsJames Caswell \n\nBeethoven Fidelio Overture\nLiszt Piano Concerto #2 Solo: Lenora Ford Brown\nSaint-Saëns Symphony #3 “Organ”
URL:https://saltlakesymphony.org/event/concert-56/
CATEGORIES:Concerts
END:VEVENT
BEGIN:VEVENT
DTSTART;TZID=America/Denver:19991015T000000
DTEND;TZID=America/Denver:19991016T000000
DTSTAMP:20260420T171959
CREATED:20221003T175952Z
LAST-MODIFIED:20221003T175952Z
UID:2125-939945600-940032000@saltlakesymphony.org
SUMMARY:Concert
DESCRIPTION:ConductorsJames Caswell \n\nBrahms Symphony #3\nHindemith Symphonic Metamorphosis\nMahler Ruckert-Lieder Solo: Celena Nelson Shafer\, soprano
URL:https://saltlakesymphony.org/event/concert-55/
CATEGORIES:Concerts
END:VEVENT
BEGIN:VEVENT
DTSTART;TZID=America/Denver:19990514T000000
DTEND;TZID=America/Denver:19990515T000000
DTSTAMP:20260420T171959
CREATED:20221003T175952Z
LAST-MODIFIED:20221003T175952Z
UID:2124-926640000-926726400@saltlakesymphony.org
SUMMARY:Concert
DESCRIPTION:ConductorsJames Caswell \n\nMozart Piano Concerto in A Minor k. 488 Solo: Mark Neiwirth\nRespighi Pines of Rome\nRossini Italian Girl in Algiers Overture
URL:https://saltlakesymphony.org/event/concert-54/
CATEGORIES:Concerts
END:VEVENT
BEGIN:VEVENT
DTSTART;TZID=America/Denver:19990319T000000
DTEND;TZID=America/Denver:19990320T000000
DTSTAMP:20260420T171959
CREATED:20221003T175952Z
LAST-MODIFIED:20221003T175952Z
UID:2123-921801600-921888000@saltlakesymphony.org
SUMMARY:Concert
DESCRIPTION:ConductorsJames Caswell \n\nDebussy Prelude to the Afternoon of a Faun\nSibelius Symphony #5\nStravinsky Song of the Nightingale
URL:https://saltlakesymphony.org/event/concert-53/
CATEGORIES:Concerts
END:VEVENT
BEGIN:VEVENT
DTSTART;TZID=America/Denver:19990129T000000
DTEND;TZID=America/Denver:19990129T000000
DTSTAMP:20260420T171959
CREATED:20221003T175951Z
LAST-MODIFIED:20221003T175951Z
UID:2122-917568000-917568000@saltlakesymphony.org
SUMMARY:Evening in Vienna
DESCRIPTION:ConductorsJames Caswell \n\nBeethoven Military March #1 in F Major\nBeethoven Military March #2 in F Major\nLehar Dein ist mein ganzes Hertz\,  Land des laechelns  Solo: Lawrence Vincent\nMozart Dies Bildness ist bezaubernd schoen (from the Magic Flute) Solo: Lawrence Vincent\nPuccini E Lucevan le Stelle from Tosca  Solo: Lawrence Vincent\nSieczy?ski Vienna City of my Dreams Solo: Lawrence Vincent\nStrauss\, Johann Jr. Emperor Waltzes\nStrauss\, Johann Jr. Perpetuum Mobile\nStrauss\, Johann Jr. Roses from the South Waltzes\nStrauss\, Johann Jr. Thunder and Lightning Polka\nStrauss\, Johann Jr. Wine\, Women and Song Waltzes\nStrauss\, Johann Sr. Radetsky March
URL:https://saltlakesymphony.org/event/evening-in-vienna-10/
CATEGORIES:Concerts
END:VEVENT
BEGIN:VEVENT
DTSTART;TZID=America/Denver:19981120T000000
DTEND;TZID=America/Denver:19981120T000000
DTSTAMP:20260420T171959
CREATED:20221003T175951Z
LAST-MODIFIED:20221003T175951Z
UID:2121-911520000-911520000@saltlakesymphony.org
SUMMARY:Concert
DESCRIPTION:ConductorsJames Caswell \n\nMahler Symphony #1
URL:https://saltlakesymphony.org/event/concert-52/
CATEGORIES:Concerts
END:VEVENT
BEGIN:VEVENT
DTSTART;TZID=America/Denver:19981109T000000
DTEND;TZID=America/Denver:19981110T000000
DTSTAMP:20260420T171959
CREATED:20221003T175947Z
LAST-MODIFIED:20221003T175947Z
UID:2120-910569600-910656000@saltlakesymphony.org
SUMMARY:Concert
DESCRIPTION:ConductorsJames Caswell \n\nBeethoven Symphony #6 “Pastoral”\nDukas Sorcerer’s Apprentice\nMussorgsky Night on Bald mountain
URL:https://saltlakesymphony.org/event/concert-51/
CATEGORIES:Concerts
END:VEVENT
BEGIN:VEVENT
DTSTART;TZID=America/Denver:19980515T000000
DTEND;TZID=America/Denver:19980516T000000
DTSTAMP:20260420T171959
CREATED:20221003T175947Z
LAST-MODIFIED:20221003T175947Z
UID:2119-895190400-895276800@saltlakesymphony.org
SUMMARY:Concert
DESCRIPTION:ConductorsJames Caswell \n\nDukas “La Peri”\, Fanfare\nFranck Symphony in D Minor\nRavel Mother Goose Suite
URL:https://saltlakesymphony.org/event/concert-50/
CATEGORIES:Concerts
END:VEVENT
BEGIN:VEVENT
DTSTART;TZID=America/Denver:19980417T000000
DTEND;TZID=America/Denver:19980417T000000
DTSTAMP:20260420T171959
CREATED:20221003T175946Z
LAST-MODIFIED:20221003T175946Z
UID:2118-892771200-892771200@saltlakesymphony.org
SUMMARY:Piano Concerto Festival
DESCRIPTION:ConductorsJames Caswell \n\nBeethoven Piano Concerto #4\, 1st movement Sponsored by Prep. Division\, U of U Music Solo: Cassandra Parker Broadhead\nGrieg Concerto in A minor\, 3rd movement Solo: Jackie Tomlinson Ward\nMozart Concerto #21\, 1st movement Solo: Richard Rhinehart\nRachmaninoff Concerto #2\, 1st movement Solo: Jeremiah Perry\nRachmaninoff Concerto #2\, 3rd movement Solo: Richard Marshall\nRavel Concerto in G Major\, 1st movement Solo: Julie Brunson Izatt\nSchumann Concerto in A Minor\, 1st movement Solo: Melanie Nelson Squires
URL:https://saltlakesymphony.org/event/piano-concerto-festival/
CATEGORIES:Concerts
END:VEVENT
BEGIN:VEVENT
DTSTART;TZID=America/Denver:19980320T000000
DTEND;TZID=America/Denver:19980321T000000
DTSTAMP:20260420T171959
CREATED:20221003T175946Z
LAST-MODIFIED:20221003T175946Z
UID:2117-890352000-890438400@saltlakesymphony.org
SUMMARY:Concert
DESCRIPTION:ConductorsJames Caswell \n\nChopin Piano Concerto #1 Solo: Lenora Ford Brown\nMozart Symphonie #41 “Jupiter”\nWagner Die Meistersinger\, Vorspiel
URL:https://saltlakesymphony.org/event/concert-49/
CATEGORIES:Concerts
END:VEVENT
BEGIN:VEVENT
DTSTART;TZID=America/Denver:19980130T000000
DTEND;TZID=America/Denver:19980131T000000
DTSTAMP:20260420T171959
CREATED:20221003T175946Z
LAST-MODIFIED:20221003T175946Z
UID:2116-886118400-886204800@saltlakesymphony.org
SUMMARY:Evening in Vienna
DESCRIPTION:ConductorsJames Caswell \n\nPuccini Muzetta’s Waltz from La Bohème Solo: ?\nSieczy?ski Vienna City of my Dreams Solo: ?\nStrauss\, Johann Jr. Blue Danube Waltz\nStrauss\, Johann Jr. Emperor Waltzes\nStrauss\, Johann Jr. Morning Papers Waltz\nStrauss\, Johann Jr. Pizzacato Polka\nStrauss\, Johann Sr. Radetsky March\nStrauss\, Richard Der Rosenkavalier Waltzes
URL:https://saltlakesymphony.org/event/evening-in-vienna-9/
CATEGORIES:Concerts
END:VEVENT
BEGIN:VEVENT
DTSTART;TZID=America/Denver:19971212T000000
DTEND;TZID=America/Denver:19971212T000000
DTSTAMP:20260420T171959
CREATED:20221003T175936Z
LAST-MODIFIED:20221003T175936Z
UID:2115-881884800-881884800@saltlakesymphony.org
SUMMARY:Holiday Concert
DESCRIPTION:ConductorsJames Caswell \n\nAnderson\, Leroy Sleigh Ride\nGrainger Sussex Mummer Christmas Carol\ntraditional Christmas\, a Medley of Well-Known Carols Arr: Harris\, Arthur\nHaydn Toy Symphony\nHumperdinck Hansel and Gretel Prelude\nRimsky-Korsakov Christmas Eve Suite\, Polanaise
URL:https://saltlakesymphony.org/event/holiday-concert-2/
CATEGORIES:Concerts
END:VEVENT
BEGIN:VEVENT
DTSTART;TZID=America/Denver:19971121T000000
DTEND;TZID=America/Denver:19971122T000000
DTSTAMP:20260420T171959
CREATED:20221003T175935Z
LAST-MODIFIED:20221003T175935Z
UID:2114-880070400-880156800@saltlakesymphony.org
SUMMARY:Concert
DESCRIPTION:ConductorsJames Caswell \n\nBernstein Halil Nocturne for solo Flute\, Percussion & Strings Solo: Laurel Ann Maurer\nHaydn Symphony #100 “Military”\nVaughan Williams Song of Thanksgiving
URL:https://saltlakesymphony.org/event/concert-48/
CATEGORIES:Concerts
END:VEVENT
BEGIN:VEVENT
DTSTART;TZID=America/Denver:19971003T000000
DTEND;TZID=America/Denver:19971004T000000
DTSTAMP:20260420T171959
CREATED:20221003T175935Z
LAST-MODIFIED:20221003T175935Z
UID:2113-875836800-875923200@saltlakesymphony.org
SUMMARY:Concert
DESCRIPTION:ConductorsJames Caswell \n\nChausson Poeme for Viollin and Orchestra op. 25 Solo: Elizabeth Palmer\nDvo?ák Symphony #8\nGrieg Peer Gynt\, Suite #1
URL:https://saltlakesymphony.org/event/concert-47/
CATEGORIES:Concerts
END:VEVENT
BEGIN:VEVENT
DTSTART;TZID=America/Denver:19970523T000000
DTEND;TZID=America/Denver:19970523T000000
DTSTAMP:20260420T171959
CREATED:20221003T175935Z
LAST-MODIFIED:20221003T175935Z
UID:2112-864345600-864345600@saltlakesymphony.org
SUMMARY:Concert
DESCRIPTION:ConductorsJames Caswell \n\nBorodin Symphony #2 in B minor\nKhachaturian Gayaneh Ballet Suite #1\nRavel Pavane pour une infante defunte
URL:https://saltlakesymphony.org/event/concert-46/
CATEGORIES:Concerts
END:VEVENT
BEGIN:VEVENT
DTSTART;TZID=America/Denver:19970314T000000
DTEND;TZID=America/Denver:19970315T000000
DTSTAMP:20260420T171959
CREATED:20221003T175935Z
LAST-MODIFIED:20221003T175935Z
UID:2111-858297600-858384000@saltlakesymphony.org
SUMMARY:Concert
DESCRIPTION:ConductorsJames Caswell \n\nBarber Adagio for Strings\nCopland Appalachian Spring\nIves\, Charles Variations on “America” Arr: William Schuman
URL:https://saltlakesymphony.org/event/concert-45/
CATEGORIES:Concerts
END:VEVENT
BEGIN:VEVENT
DTSTART;TZID=America/Denver:19970131T000000
DTEND;TZID=America/Denver:19970201T000000
DTSTAMP:20260420T171959
CREATED:20221003T175919Z
LAST-MODIFIED:20221003T175919Z
UID:2110-854668800-854755200@saltlakesymphony.org
SUMMARY:Evening in Vienna
DESCRIPTION:ConductorsDavid Dalton \n\nLehar Meine Lippen sie kussen so heiss from Giuditta Solo: Margo Watson\, soprano\nLehar Gold and Silver Waltz\nLehar Vilja\, from the Merry Widow Solo: Margo Wilson\, soprano\nNicolai The Merry Wives of Windsor\, Overture\nSieczy?ski Vienna\, City of my Dreams Solo: Margo Watson\, soprano\nStrauss\, Johann Jr. Tales from the Vienna Woods\nStrauss\, Johann Jr. Adele’s Laughing Song from Die Fledemaus Solo: Margo Watson\, soprano\nStrauss\, Johann Jr. Plappermaulchen Polka\nStrauss\, Johann Jr. Banditen Galop\nStrauss\, Johann Jr. Champagne Polka\nStrauss\, Johann Jr. Czardas\, from Die Fledermaus Solo: Margo Watson\, soprano\nStrauss\, Johann Sr. Radetzky March
URL:https://saltlakesymphony.org/event/evening-in-vienna-8/
CATEGORIES:Concerts
END:VEVENT
BEGIN:VEVENT
DTSTART;TZID=America/Denver:19961115T000000
DTEND;TZID=America/Denver:19961116T000000
DTSTAMP:20260420T171959
CREATED:20221003T175919Z
LAST-MODIFIED:20221003T175919Z
UID:2109-848016000-848102400@saltlakesymphony.org
SUMMARY:Concert
DESCRIPTION:ConductorsJames Caswell \n\nBrahms Symphony #2 in D major\nMozart Il Seraglio Overture
URL:https://saltlakesymphony.org/event/concert-44/
CATEGORIES:Concerts
END:VEVENT
BEGIN:VEVENT
DTSTART;TZID=America/Denver:19961011T000000
DTEND;TZID=America/Denver:19961012T000000
DTSTAMP:20260420T171959
CREATED:20221003T175919Z
LAST-MODIFIED:20221003T175919Z
UID:2108-844992000-845078400@saltlakesymphony.org
SUMMARY:Concert
DESCRIPTION:ConductorsJames Caswell \n\nCopland Our Town\nDvo?ák Symphony #9 “From the New World”\nGlinka Russlan and Ludmilla Overture
URL:https://saltlakesymphony.org/event/concert-43/
CATEGORIES:Concerts
END:VEVENT
BEGIN:VEVENT
DTSTART;TZID=America/Denver:19960517T000000
DTEND;TZID=America/Denver:19960518T000000
DTSTAMP:20260420T171959
CREATED:20221003T175919Z
LAST-MODIFIED:20221003T175919Z
UID:2107-832291200-832377600@saltlakesymphony.org
SUMMARY:Russian- American Friendship
DESCRIPTION:ConductorsRobert Debbaut \n\nBarber Knoxville\, Summer of 1915 Solo: Elizabeth Paniagua\, soprano\nShostakovich Symphony #12\, “The Year of 1917” Solo: Elizabeth Paniagua\, soprano
URL:https://saltlakesymphony.org/event/russian-american-friendship/
CATEGORIES:Concerts
END:VEVENT
BEGIN:VEVENT
DTSTART;TZID=America/Denver:19960315T000000
DTEND;TZID=America/Denver:19960316T000000
DTSTAMP:20260420T171959
CREATED:20221003T175919Z
LAST-MODIFIED:20221003T175919Z
UID:2106-826848000-826934400@saltlakesymphony.org
SUMMARY:Utah Centennial
DESCRIPTION:ConductorsRobert Debbaut \n\nCopland Buckaroo Holiday\, from Rodeo\nCopland Corral Nocturne\, from Rodeo\nCopland Saturday Night Waltz\, from Rodeo\nCopland Hoedown\, from Rodeo\nCosta\, John Corral Nocturne\, from Rodeo\nRobertson\, Leroy American Serenade\nWolking\, Henry Pangea
URL:https://saltlakesymphony.org/event/utah-centennial/
CATEGORIES:Concerts
END:VEVENT
BEGIN:VEVENT
DTSTART;TZID=America/Denver:19960126T000000
DTEND;TZID=America/Denver:19960127T000000
DTSTAMP:20260420T171959
CREATED:20221003T175903Z
LAST-MODIFIED:20221003T175903Z
UID:2105-822614400-822700800@saltlakesymphony.org
SUMMARY:Evening in Vienna
DESCRIPTION:ConductorsRobert Debbaut \n\nLehar Meine Lippin sie kussen so heiss\, from Giuditta Solo: Julie Wright\, soprano\nMozart Marriage of Figaro\, Overture\nMozart Bester Jungling\, from Der Schauspieldirektor Solo: Jennifer Larson\, soprano\nStrauss\, Edward Fast Track Polka\nStrauss\, Johann Jr. Emperor Wlttzes\nStrauss\, Johann Jr. Chacun a son gout\, from Die Fledermaus Solo: Karin Eide\, mezzo\nStrauss\, Johann Jr. Voices of Spring Waltzes\nStrauss\, Richard Der Rosenkavalier\, scene\, trio and finale from act III Solo: Julie Wright\, Jennifer Larson and Karin Eide
URL:https://saltlakesymphony.org/event/evening-in-vienna-7/
CATEGORIES:Concerts
END:VEVENT
BEGIN:VEVENT
DTSTART;TZID=America/Denver:19951215T000000
DTEND;TZID=America/Denver:19951216T000000
DTSTAMP:20260420T171959
CREATED:20221003T175903Z
LAST-MODIFIED:20221003T175903Z
UID:2104-818985600-819072000@saltlakesymphony.org
SUMMARY:Concert
DESCRIPTION:ConductorsRobert Debbaut \n\nBeethoven Namensfeier Overture\nBeethoven Piano Concerto #4 Solo: Marjorie Janove\, piano\nBeethoven Symphony #3 “Eroica”
URL:https://saltlakesymphony.org/event/concert-42/
CATEGORIES:Concerts
END:VEVENT
BEGIN:VEVENT
DTSTART;TZID=America/Denver:19951110T000000
DTEND;TZID=America/Denver:19951111T000000
DTSTAMP:20260420T171959
CREATED:20221003T175903Z
LAST-MODIFIED:20221003T175903Z
UID:2103-815961600-816048000@saltlakesymphony.org
SUMMARY:Concert
DESCRIPTION:ConductorsRobert Debbaut \n\nMozart Magic Flute\, Overture\nStravinsky Firebird\, Second Suite\nWagner Wota’s Farewell and Magic Fire Music\, from Die Walkure
URL:https://saltlakesymphony.org/event/concert-41/
CATEGORIES:Concerts
END:VEVENT
END:VCALENDAR