BEGIN:VCALENDAR
VERSION:2.0
PRODID:-//Salt Lake Symphony - ECPv6.15.20//NONSGML v1.0//EN
CALSCALE:GREGORIAN
METHOD:PUBLISH
X-WR-CALNAME:Salt Lake Symphony
X-ORIGINAL-URL:https://saltlakesymphony.org
X-WR-CALDESC:Events for Salt Lake Symphony
REFRESH-INTERVAL;VALUE=DURATION:PT1H
X-Robots-Tag:noindex
X-PUBLISHED-TTL:PT1H
BEGIN:VTIMEZONE
TZID:America/Denver
BEGIN:DAYLIGHT
TZOFFSETFROM:-0700
TZOFFSETTO:-0600
TZNAME:MDT
DTSTART:19920405T090000
END:DAYLIGHT
BEGIN:STANDARD
TZOFFSETFROM:-0600
TZOFFSETTO:-0700
TZNAME:MST
DTSTART:19921025T080000
END:STANDARD
BEGIN:DAYLIGHT
TZOFFSETFROM:-0700
TZOFFSETTO:-0600
TZNAME:MDT
DTSTART:19930404T090000
END:DAYLIGHT
BEGIN:STANDARD
TZOFFSETFROM:-0600
TZOFFSETTO:-0700
TZNAME:MST
DTSTART:19931031T080000
END:STANDARD
BEGIN:DAYLIGHT
TZOFFSETFROM:-0700
TZOFFSETTO:-0600
TZNAME:MDT
DTSTART:19940403T090000
END:DAYLIGHT
BEGIN:STANDARD
TZOFFSETFROM:-0600
TZOFFSETTO:-0700
TZNAME:MST
DTSTART:19941030T080000
END:STANDARD
BEGIN:DAYLIGHT
TZOFFSETFROM:-0700
TZOFFSETTO:-0600
TZNAME:MDT
DTSTART:19950402T090000
END:DAYLIGHT
BEGIN:STANDARD
TZOFFSETFROM:-0600
TZOFFSETTO:-0700
TZNAME:MST
DTSTART:19951029T080000
END:STANDARD
BEGIN:DAYLIGHT
TZOFFSETFROM:-0700
TZOFFSETTO:-0600
TZNAME:MDT
DTSTART:19960407T090000
END:DAYLIGHT
BEGIN:STANDARD
TZOFFSETFROM:-0600
TZOFFSETTO:-0700
TZNAME:MST
DTSTART:19961027T080000
END:STANDARD
BEGIN:DAYLIGHT
TZOFFSETFROM:-0700
TZOFFSETTO:-0600
TZNAME:MDT
DTSTART:19970406T090000
END:DAYLIGHT
BEGIN:STANDARD
TZOFFSETFROM:-0600
TZOFFSETTO:-0700
TZNAME:MST
DTSTART:19971026T080000
END:STANDARD
BEGIN:DAYLIGHT
TZOFFSETFROM:-0700
TZOFFSETTO:-0600
TZNAME:MDT
DTSTART:19980405T090000
END:DAYLIGHT
BEGIN:STANDARD
TZOFFSETFROM:-0600
TZOFFSETTO:-0700
TZNAME:MST
DTSTART:19981025T080000
END:STANDARD
END:VTIMEZONE
BEGIN:VEVENT
DTSTART;TZID=America/Denver:19971121T000000
DTEND;TZID=America/Denver:19971122T000000
DTSTAMP:20260420T004555
CREATED:20221003T175935Z
LAST-MODIFIED:20221003T175935Z
UID:2114-880070400-880156800@saltlakesymphony.org
SUMMARY:Concert
DESCRIPTION:ConductorsJames Caswell \n\nBernstein Halil Nocturne for solo Flute\, Percussion & Strings Solo: Laurel Ann Maurer\nHaydn Symphony #100 “Military”\nVaughan Williams Song of Thanksgiving
URL:https://saltlakesymphony.org/event/concert-48/
CATEGORIES:Concerts
END:VEVENT
BEGIN:VEVENT
DTSTART;TZID=America/Denver:19971003T000000
DTEND;TZID=America/Denver:19971004T000000
DTSTAMP:20260420T004555
CREATED:20221003T175935Z
LAST-MODIFIED:20221003T175935Z
UID:2113-875836800-875923200@saltlakesymphony.org
SUMMARY:Concert
DESCRIPTION:ConductorsJames Caswell \n\nChausson Poeme for Viollin and Orchestra op. 25 Solo: Elizabeth Palmer\nDvo?ák Symphony #8\nGrieg Peer Gynt\, Suite #1
URL:https://saltlakesymphony.org/event/concert-47/
CATEGORIES:Concerts
END:VEVENT
BEGIN:VEVENT
DTSTART;TZID=America/Denver:19970523T000000
DTEND;TZID=America/Denver:19970523T000000
DTSTAMP:20260420T004555
CREATED:20221003T175935Z
LAST-MODIFIED:20221003T175935Z
UID:2112-864345600-864345600@saltlakesymphony.org
SUMMARY:Concert
DESCRIPTION:ConductorsJames Caswell \n\nBorodin Symphony #2 in B minor\nKhachaturian Gayaneh Ballet Suite #1\nRavel Pavane pour une infante defunte
URL:https://saltlakesymphony.org/event/concert-46/
CATEGORIES:Concerts
END:VEVENT
BEGIN:VEVENT
DTSTART;TZID=America/Denver:19970314T000000
DTEND;TZID=America/Denver:19970315T000000
DTSTAMP:20260420T004555
CREATED:20221003T175935Z
LAST-MODIFIED:20221003T175935Z
UID:2111-858297600-858384000@saltlakesymphony.org
SUMMARY:Concert
DESCRIPTION:ConductorsJames Caswell \n\nBarber Adagio for Strings\nCopland Appalachian Spring\nIves\, Charles Variations on “America” Arr: William Schuman
URL:https://saltlakesymphony.org/event/concert-45/
CATEGORIES:Concerts
END:VEVENT
BEGIN:VEVENT
DTSTART;TZID=America/Denver:19970131T000000
DTEND;TZID=America/Denver:19970201T000000
DTSTAMP:20260420T004555
CREATED:20221003T175919Z
LAST-MODIFIED:20221003T175919Z
UID:2110-854668800-854755200@saltlakesymphony.org
SUMMARY:Evening in Vienna
DESCRIPTION:ConductorsDavid Dalton \n\nLehar Meine Lippen sie kussen so heiss from Giuditta Solo: Margo Watson\, soprano\nLehar Gold and Silver Waltz\nLehar Vilja\, from the Merry Widow Solo: Margo Wilson\, soprano\nNicolai The Merry Wives of Windsor\, Overture\nSieczy?ski Vienna\, City of my Dreams Solo: Margo Watson\, soprano\nStrauss\, Johann Jr. Tales from the Vienna Woods\nStrauss\, Johann Jr. Adele’s Laughing Song from Die Fledemaus Solo: Margo Watson\, soprano\nStrauss\, Johann Jr. Plappermaulchen Polka\nStrauss\, Johann Jr. Banditen Galop\nStrauss\, Johann Jr. Champagne Polka\nStrauss\, Johann Jr. Czardas\, from Die Fledermaus Solo: Margo Watson\, soprano\nStrauss\, Johann Sr. Radetzky March
URL:https://saltlakesymphony.org/event/evening-in-vienna-8/
CATEGORIES:Concerts
END:VEVENT
BEGIN:VEVENT
DTSTART;TZID=America/Denver:19961115T000000
DTEND;TZID=America/Denver:19961116T000000
DTSTAMP:20260420T004555
CREATED:20221003T175919Z
LAST-MODIFIED:20221003T175919Z
UID:2109-848016000-848102400@saltlakesymphony.org
SUMMARY:Concert
DESCRIPTION:ConductorsJames Caswell \n\nBrahms Symphony #2 in D major\nMozart Il Seraglio Overture
URL:https://saltlakesymphony.org/event/concert-44/
CATEGORIES:Concerts
END:VEVENT
BEGIN:VEVENT
DTSTART;TZID=America/Denver:19961011T000000
DTEND;TZID=America/Denver:19961012T000000
DTSTAMP:20260420T004555
CREATED:20221003T175919Z
LAST-MODIFIED:20221003T175919Z
UID:2108-844992000-845078400@saltlakesymphony.org
SUMMARY:Concert
DESCRIPTION:ConductorsJames Caswell \n\nCopland Our Town\nDvo?ák Symphony #9 “From the New World”\nGlinka Russlan and Ludmilla Overture
URL:https://saltlakesymphony.org/event/concert-43/
CATEGORIES:Concerts
END:VEVENT
BEGIN:VEVENT
DTSTART;TZID=America/Denver:19960517T000000
DTEND;TZID=America/Denver:19960518T000000
DTSTAMP:20260420T004555
CREATED:20221003T175919Z
LAST-MODIFIED:20221003T175919Z
UID:2107-832291200-832377600@saltlakesymphony.org
SUMMARY:Russian- American Friendship
DESCRIPTION:ConductorsRobert Debbaut \n\nBarber Knoxville\, Summer of 1915 Solo: Elizabeth Paniagua\, soprano\nShostakovich Symphony #12\, “The Year of 1917” Solo: Elizabeth Paniagua\, soprano
URL:https://saltlakesymphony.org/event/russian-american-friendship/
CATEGORIES:Concerts
END:VEVENT
BEGIN:VEVENT
DTSTART;TZID=America/Denver:19960315T000000
DTEND;TZID=America/Denver:19960316T000000
DTSTAMP:20260420T004555
CREATED:20221003T175919Z
LAST-MODIFIED:20221003T175919Z
UID:2106-826848000-826934400@saltlakesymphony.org
SUMMARY:Utah Centennial
DESCRIPTION:ConductorsRobert Debbaut \n\nCopland Buckaroo Holiday\, from Rodeo\nCopland Corral Nocturne\, from Rodeo\nCopland Saturday Night Waltz\, from Rodeo\nCopland Hoedown\, from Rodeo\nCosta\, John Corral Nocturne\, from Rodeo\nRobertson\, Leroy American Serenade\nWolking\, Henry Pangea
URL:https://saltlakesymphony.org/event/utah-centennial/
CATEGORIES:Concerts
END:VEVENT
BEGIN:VEVENT
DTSTART;TZID=America/Denver:19960126T000000
DTEND;TZID=America/Denver:19960127T000000
DTSTAMP:20260420T004555
CREATED:20221003T175903Z
LAST-MODIFIED:20221003T175903Z
UID:2105-822614400-822700800@saltlakesymphony.org
SUMMARY:Evening in Vienna
DESCRIPTION:ConductorsRobert Debbaut \n\nLehar Meine Lippin sie kussen so heiss\, from Giuditta Solo: Julie Wright\, soprano\nMozart Marriage of Figaro\, Overture\nMozart Bester Jungling\, from Der Schauspieldirektor Solo: Jennifer Larson\, soprano\nStrauss\, Edward Fast Track Polka\nStrauss\, Johann Jr. Emperor Wlttzes\nStrauss\, Johann Jr. Chacun a son gout\, from Die Fledermaus Solo: Karin Eide\, mezzo\nStrauss\, Johann Jr. Voices of Spring Waltzes\nStrauss\, Richard Der Rosenkavalier\, scene\, trio and finale from act III Solo: Julie Wright\, Jennifer Larson and Karin Eide
URL:https://saltlakesymphony.org/event/evening-in-vienna-7/
CATEGORIES:Concerts
END:VEVENT
BEGIN:VEVENT
DTSTART;TZID=America/Denver:19951215T000000
DTEND;TZID=America/Denver:19951216T000000
DTSTAMP:20260420T004555
CREATED:20221003T175903Z
LAST-MODIFIED:20221003T175903Z
UID:2104-818985600-819072000@saltlakesymphony.org
SUMMARY:Concert
DESCRIPTION:ConductorsRobert Debbaut \n\nBeethoven Namensfeier Overture\nBeethoven Piano Concerto #4 Solo: Marjorie Janove\, piano\nBeethoven Symphony #3 “Eroica”
URL:https://saltlakesymphony.org/event/concert-42/
CATEGORIES:Concerts
END:VEVENT
BEGIN:VEVENT
DTSTART;TZID=America/Denver:19951110T000000
DTEND;TZID=America/Denver:19951111T000000
DTSTAMP:20260420T004555
CREATED:20221003T175903Z
LAST-MODIFIED:20221003T175903Z
UID:2103-815961600-816048000@saltlakesymphony.org
SUMMARY:Concert
DESCRIPTION:ConductorsRobert Debbaut \n\nMozart Magic Flute\, Overture\nStravinsky Firebird\, Second Suite\nWagner Wota’s Farewell and Magic Fire Music\, from Die Walkure
URL:https://saltlakesymphony.org/event/concert-41/
CATEGORIES:Concerts
END:VEVENT
BEGIN:VEVENT
DTSTART;TZID=America/Denver:19951013T000000
DTEND;TZID=America/Denver:19951014T000000
DTSTAMP:20260420T004555
CREATED:20221003T175902Z
LAST-MODIFIED:20221003T175902Z
UID:2102-813542400-813628800@saltlakesymphony.org
SUMMARY:A Night in Central Europe
DESCRIPTION:ConductorsRobert Debbaut \n\nBrahms Academic Festval Overture\nDvo?ák Symphony #6 in D major\nGriffes Nocturne Utah Premiere
URL:https://saltlakesymphony.org/event/a-night-in-central-europe/
CATEGORIES:Concerts
END:VEVENT
BEGIN:VEVENT
DTSTART;TZID=America/Denver:19950512T000000
DTEND;TZID=America/Denver:19950513T000000
DTSTAMP:20260420T004555
CREATED:20221003T175902Z
LAST-MODIFIED:20221003T175902Z
UID:2101-800236800-800323200@saltlakesymphony.org
SUMMARY:Concert
DESCRIPTION:ConductorsBryce Rytting \n\nBarber School of Scandal\, Overture Conductor search\nKodály Dances of Galanta\nMozart Symphony Concertante for violin and viola Solo: Elizabeth Palmer\, violin and Mario Ortiz\, viola
URL:https://saltlakesymphony.org/event/concert-40/
CATEGORIES:Concerts
END:VEVENT
BEGIN:VEVENT
DTSTART;TZID=America/Denver:19950316T000000
DTEND;TZID=America/Denver:19950318T000000
DTSTAMP:20260420T004555
CREATED:20221003T175847Z
LAST-MODIFIED:20221003T175847Z
UID:2100-795312000-795484800@saltlakesymphony.org
SUMMARY:Russian
DESCRIPTION:ConductorsRobert Debbaut \n\nLiadov Eight Russian Folk Songs Conductor search\nShostakovich Symphony #1\nTchaikovsky Romeo and Juliet Overture
URL:https://saltlakesymphony.org/event/russian/
CATEGORIES:Concerts
END:VEVENT
BEGIN:VEVENT
DTSTART;TZID=America/Denver:19950127T000000
DTEND;TZID=America/Denver:19950128T000000
DTSTAMP:20260420T004555
CREATED:20221003T175846Z
LAST-MODIFIED:20221003T175846Z
UID:2098-791164800-791251200@saltlakesymphony.org
SUMMARY:Evening in Vienna
DESCRIPTION:ConductorsRonald Horton \n\nHaydn Toy Symphony Conductor search
URL:https://saltlakesymphony.org/event/evening-in-vienna-5/
CATEGORIES:Concerts
END:VEVENT
BEGIN:VEVENT
DTSTART;TZID=America/Denver:19950127T000000
DTEND;TZID=America/Denver:19950127T000000
DTSTAMP:20260420T004555
CREATED:20221003T175846Z
LAST-MODIFIED:20221003T175846Z
UID:2099-791164800-791164800@saltlakesymphony.org
SUMMARY:Evening in Vienna
DESCRIPTION:ConductorsRonald Horton \n\nLehar Excerpts from the Merry Widow Solo: Kate Hill\, soprano and David Power\, baritone\nMozart Solo and Duet from the Majic Flute Solo: Kate Hill\, soprano and David Power\, baritone\nSieczy?ski Vienna City of my Dreams Solo: Kate Hill\, soprano\nStrauss\, Johann Jr. Overture to die Fledermaus\nStrauss\, Johann Jr. Donner und Blitzen Polka\nStrauss\, Johann Jr. Wiener Blut Waltz\nStrauss\, Johann Jr. Tales from the Vienna Woods
URL:https://saltlakesymphony.org/event/evening-in-vienna-6/
CATEGORIES:Concerts
END:VEVENT
BEGIN:VEVENT
DTSTART;TZID=America/Denver:19941209T000000
DTEND;TZID=America/Denver:19941209T000000
DTSTAMP:20260420T004555
CREATED:20221003T175846Z
LAST-MODIFIED:20221003T175846Z
UID:2097-786931200-786931200@saltlakesymphony.org
SUMMARY:Christmas
DESCRIPTION:ConductorsMicheal Palumbo \n\nCorelli Concerto Grosso #8\, “Christmas” Conductor search\, concert repeated 12/10/94 at Park City Community Church\nMendelssohn Symphony #5\, “Reformation”\nRobertson Christmas Festival
URL:https://saltlakesymphony.org/event/christmas-2/
CATEGORIES:Concerts
END:VEVENT
BEGIN:VEVENT
DTSTART;TZID=America/Denver:19941111T000000
DTEND;TZID=America/Denver:19941111T000000
DTSTAMP:20260420T004555
CREATED:20221003T175846Z
LAST-MODIFIED:20221003T175846Z
UID:2096-784512000-784512000@saltlakesymphony.org
SUMMARY:Concert
DESCRIPTION:ConductorsJoel Rosenberg \n\nCurry Blomido and Atala Conductor search\, concert repeated 11/12/94 at Park City Community Church\nTchaikovsky Symphony #5
URL:https://saltlakesymphony.org/event/concert-39/
CATEGORIES:Concerts
END:VEVENT
BEGIN:VEVENT
DTSTART;TZID=America/Denver:19941021T000000
DTEND;TZID=America/Denver:19941022T000000
DTSTAMP:20260420T004555
CREATED:20221003T175845Z
LAST-MODIFIED:20221003T175845Z
UID:2094-782697600-782784000@saltlakesymphony.org
SUMMARY:Concert
DESCRIPTION:ConductorsRonald M. Horton \n\nBeethoven Symphony #6 “Pastoral” Conductor search
URL:https://saltlakesymphony.org/event/concert-37/
CATEGORIES:Concerts
END:VEVENT
BEGIN:VEVENT
DTSTART;TZID=America/Denver:19941021T000000
DTEND;TZID=America/Denver:19941021T000000
DTSTAMP:20260420T004555
CREATED:20221003T175845Z
LAST-MODIFIED:20221003T175845Z
UID:2095-782697600-782697600@saltlakesymphony.org
SUMMARY:Concert
DESCRIPTION:ConductorsRonald M. Horton \n\nDebussy Two Nocturnes\nDvo?ák Carnival Overture
URL:https://saltlakesymphony.org/event/concert-38/
CATEGORIES:Concerts
END:VEVENT
BEGIN:VEVENT
DTSTART;TZID=America/Denver:19940513T000000
DTEND;TZID=America/Denver:19940514T000000
DTSTAMP:20260420T004555
CREATED:20221003T175844Z
LAST-MODIFIED:20221003T175844Z
UID:2092-768787200-768873600@saltlakesymphony.org
SUMMARY:Concert
DESCRIPTION:ConductorsVincent G. LaGuardia\, jr. \n\nBeethoven Symphony #1 Solo: Robert England and Shauna Bowman
URL:https://saltlakesymphony.org/event/concert-35/
CATEGORIES:Concerts
END:VEVENT
BEGIN:VEVENT
DTSTART;TZID=America/Denver:19940513T000000
DTEND;TZID=America/Denver:19940513T000000
DTSTAMP:20260420T004555
CREATED:20221003T175844Z
LAST-MODIFIED:20221003T175844Z
UID:2093-768787200-768787200@saltlakesymphony.org
SUMMARY:Concert
DESCRIPTION:ConductorsVincent G. LaGuardia\, jr. \n\nRespighi Vetrate di chiesa (Church Windows) Solo: Robert England and Shauna Bowman\nVivaldi Concerto in G minor for two Violincellos\, F.III\, no.2\, P. 411 Solo: Robert England and Shauna Bowman
URL:https://saltlakesymphony.org/event/concert-36/
CATEGORIES:Concerts
END:VEVENT
BEGIN:VEVENT
DTSTART;TZID=America/Denver:19940318T000000
DTEND;TZID=America/Denver:19940319T000000
DTSTAMP:20260420T004555
CREATED:20221003T175811Z
LAST-MODIFIED:20221003T175811Z
UID:2090-763948800-764035200@saltlakesymphony.org
SUMMARY:Concert
DESCRIPTION:ConductorsDavid Dalton \n\nMahler Kindertotenlieder Solo: Marion Miller\, mezzo-soprano
URL:https://saltlakesymphony.org/event/concert-33/
CATEGORIES:Concerts
END:VEVENT
BEGIN:VEVENT
DTSTART;TZID=America/Denver:19940318T000000
DTEND;TZID=America/Denver:19940318T000000
DTSTAMP:20260420T004555
CREATED:20221003T175844Z
LAST-MODIFIED:20221003T175844Z
UID:2091-763948800-763948800@saltlakesymphony.org
SUMMARY:Concert
DESCRIPTION:ConductorsDavid Dalton \n\nMozart Symphony #25\nStrauss\, Richard Till Eulenspiegel’s Merry Pranks Solo: Marion Miller\, mezzo-soprano
URL:https://saltlakesymphony.org/event/concert-34/
CATEGORIES:Concerts
END:VEVENT
BEGIN:VEVENT
DTSTART;TZID=America/Denver:19940128T000000
DTEND;TZID=America/Denver:19940129T000000
DTSTAMP:20260420T004555
CREATED:20221003T175811Z
LAST-MODIFIED:20221003T175811Z
UID:2088-759715200-759801600@saltlakesymphony.org
SUMMARY:Evening in Vienna
DESCRIPTION:ConductorsDavid Dalton \n\nIvanovici\, Josif Waves of the Danube
URL:https://saltlakesymphony.org/event/evening-in-vienna-3/
CATEGORIES:Concerts
END:VEVENT
BEGIN:VEVENT
DTSTART;TZID=America/Denver:19940128T000000
DTEND;TZID=America/Denver:19940128T000000
DTSTAMP:20260420T004555
CREATED:20221003T175811Z
LAST-MODIFIED:20221003T175811Z
UID:2089-759715200-759715200@saltlakesymphony.org
SUMMARY:Evening in Vienna
DESCRIPTION:ConductorsDavid Dalton \n\nLehar Meine Lippin sie kussin so heoss\, from Giudetta Solo: Margo Watson\, soprano\nLehar Adale’s Laughing Song\, from The Merry Widow Solo: Margo Watson\, soprano\nSieczy?ski Vienna\, City of my Dreams Solo: Margo Watson\, soprano\nStrauss\, Johann Jr. Czardas\, from the Gypsy Baron Solo: Margo Watson\, soprano\nStrauss\, Johann Jr. Overture to the Gypsy Baron\nStrauss\, Johann Jr. Du und Du\, from die Fledermaus\nStrauss\, Johann Jr. Perpetuum Mobile\nStrauss\, Johann Jr. Tales from the Vienna Woods\nStrauss\, Johann Jr. Vilja\, from the Merry Widow Solo: Margo Watson\, soprano\nStrauss\, Johann Jr. Tick Tack Polka\nStrauss\, Johann Jr. Leichtes Blut Polka\nStrauss\, Johann Sr. Radetsky March
URL:https://saltlakesymphony.org/event/evening-in-vienna-4/
CATEGORIES:Concerts
END:VEVENT
BEGIN:VEVENT
DTSTART;TZID=America/Denver:19931210T000000
DTEND;TZID=America/Denver:19931210T000000
DTSTAMP:20260420T004555
CREATED:20221003T175811Z
LAST-MODIFIED:20221003T175811Z
UID:2087-755481600-755481600@saltlakesymphony.org
SUMMARY:Christmas
DESCRIPTION:ConductorsDavid Dalton or Bryce Rytting \n\nBach Wachet auf\, ruft uns die stimme from cantata BWV 140 repeated 11/12/93 and partially on Dec. 3 and 4 at Wasatch Presbyterian \nBach Singt dem Herrn ein neues Lied\nBerlioz Song of the Shepard Family from the Childhood of Christ\nBritten Ceremony of Carols\, selections\nElgar Sospiri\nHandel Concerto Grosso in F major\, op. 6 #2\nTorelli Concerto Grosso in G minor “Christmas” op.6 #8\ntraditional O Come all ye Faithful\nVaughan Williams Fantasia on Greensleeves\n\nGuestPro Musica (Bryce Rytting\, director)
URL:https://saltlakesymphony.org/event/christmas/
CATEGORIES:Concerts
END:VEVENT
BEGIN:VEVENT
DTSTART;TZID=America/Denver:19931111T000000
DTEND;TZID=America/Denver:19931111T000000
DTSTAMP:20260420T004555
CREATED:20221003T175811Z
LAST-MODIFIED:20221003T175811Z
UID:2086-752976000-752976000@saltlakesymphony.org
SUMMARY:Concert
DESCRIPTION:ConductorsDavid Dalton \n\nDebussy Prelude to the Afternoon of a Faun\nIbert\, Jacques Escalea (Ports of Call)\nRavel Rapsodie Espagnole
URL:https://saltlakesymphony.org/event/concert-32/
CATEGORIES:Concerts
END:VEVENT
BEGIN:VEVENT
DTSTART;TZID=America/Denver:19931014T000000
DTEND;TZID=America/Denver:19931015T000000
DTSTAMP:20260420T004555
CREATED:20221003T175611Z
LAST-MODIFIED:20221003T175611Z
UID:2084-750556800-750643200@saltlakesymphony.org
SUMMARY:English Music
DESCRIPTION:ConductorsDavid Dalton \n\nElgar Introduction and Allegro for String Quartet and String Orchestra Solo: John Steiner\, Elizabeth Plamer\, Mario Ortiz\, Robert England
URL:https://saltlakesymphony.org/event/english-music/
CATEGORIES:Concerts
END:VEVENT
END:VCALENDAR