BEGIN:VCALENDAR
VERSION:2.0
PRODID:-//Salt Lake Symphony - ECPv6.15.20//NONSGML v1.0//EN
CALSCALE:GREGORIAN
METHOD:PUBLISH
X-WR-CALNAME:Salt Lake Symphony
X-ORIGINAL-URL:https://saltlakesymphony.org
X-WR-CALDESC:Events for Salt Lake Symphony
REFRESH-INTERVAL;VALUE=DURATION:PT1H
X-Robots-Tag:noindex
X-PUBLISHED-TTL:PT1H
BEGIN:VTIMEZONE
TZID:America/Denver
BEGIN:DAYLIGHT
TZOFFSETFROM:-0700
TZOFFSETTO:-0600
TZNAME:MDT
DTSTART:19820425T090000
END:DAYLIGHT
BEGIN:STANDARD
TZOFFSETFROM:-0600
TZOFFSETTO:-0700
TZNAME:MST
DTSTART:19821031T080000
END:STANDARD
BEGIN:DAYLIGHT
TZOFFSETFROM:-0700
TZOFFSETTO:-0600
TZNAME:MDT
DTSTART:19830424T090000
END:DAYLIGHT
BEGIN:STANDARD
TZOFFSETFROM:-0600
TZOFFSETTO:-0700
TZNAME:MST
DTSTART:19831030T080000
END:STANDARD
BEGIN:DAYLIGHT
TZOFFSETFROM:-0700
TZOFFSETTO:-0600
TZNAME:MDT
DTSTART:19840429T090000
END:DAYLIGHT
BEGIN:STANDARD
TZOFFSETFROM:-0600
TZOFFSETTO:-0700
TZNAME:MST
DTSTART:19841028T080000
END:STANDARD
BEGIN:DAYLIGHT
TZOFFSETFROM:-0700
TZOFFSETTO:-0600
TZNAME:MDT
DTSTART:19850428T090000
END:DAYLIGHT
BEGIN:STANDARD
TZOFFSETFROM:-0600
TZOFFSETTO:-0700
TZNAME:MST
DTSTART:19851027T080000
END:STANDARD
BEGIN:DAYLIGHT
TZOFFSETFROM:-0700
TZOFFSETTO:-0600
TZNAME:MDT
DTSTART:19860427T090000
END:DAYLIGHT
BEGIN:STANDARD
TZOFFSETFROM:-0600
TZOFFSETTO:-0700
TZNAME:MST
DTSTART:19861026T080000
END:STANDARD
BEGIN:DAYLIGHT
TZOFFSETFROM:-0700
TZOFFSETTO:-0600
TZNAME:MDT
DTSTART:19870405T090000
END:DAYLIGHT
BEGIN:STANDARD
TZOFFSETFROM:-0600
TZOFFSETTO:-0700
TZNAME:MST
DTSTART:19871025T080000
END:STANDARD
BEGIN:DAYLIGHT
TZOFFSETFROM:-0700
TZOFFSETTO:-0600
TZNAME:MDT
DTSTART:19880403T090000
END:DAYLIGHT
BEGIN:STANDARD
TZOFFSETFROM:-0600
TZOFFSETTO:-0700
TZNAME:MST
DTSTART:19881030T080000
END:STANDARD
BEGIN:DAYLIGHT
TZOFFSETFROM:-0700
TZOFFSETTO:-0600
TZNAME:MDT
DTSTART:19890402T090000
END:DAYLIGHT
BEGIN:STANDARD
TZOFFSETFROM:-0600
TZOFFSETTO:-0700
TZNAME:MST
DTSTART:19891029T080000
END:STANDARD
BEGIN:DAYLIGHT
TZOFFSETFROM:-0700
TZOFFSETTO:-0600
TZNAME:MDT
DTSTART:19900401T090000
END:DAYLIGHT
BEGIN:STANDARD
TZOFFSETFROM:-0600
TZOFFSETTO:-0700
TZNAME:MST
DTSTART:19901028T080000
END:STANDARD
BEGIN:DAYLIGHT
TZOFFSETFROM:-0700
TZOFFSETTO:-0600
TZNAME:MDT
DTSTART:19910407T090000
END:DAYLIGHT
BEGIN:STANDARD
TZOFFSETFROM:-0600
TZOFFSETTO:-0700
TZNAME:MST
DTSTART:19911027T080000
END:STANDARD
BEGIN:DAYLIGHT
TZOFFSETFROM:-0700
TZOFFSETTO:-0600
TZNAME:MDT
DTSTART:19920405T090000
END:DAYLIGHT
BEGIN:STANDARD
TZOFFSETFROM:-0600
TZOFFSETTO:-0700
TZNAME:MST
DTSTART:19921025T080000
END:STANDARD
BEGIN:DAYLIGHT
TZOFFSETFROM:-0700
TZOFFSETTO:-0600
TZNAME:MDT
DTSTART:19930404T090000
END:DAYLIGHT
BEGIN:STANDARD
TZOFFSETFROM:-0600
TZOFFSETTO:-0700
TZNAME:MST
DTSTART:19931031T080000
END:STANDARD
BEGIN:DAYLIGHT
TZOFFSETFROM:-0700
TZOFFSETTO:-0600
TZNAME:MDT
DTSTART:19940403T090000
END:DAYLIGHT
BEGIN:STANDARD
TZOFFSETFROM:-0600
TZOFFSETTO:-0700
TZNAME:MST
DTSTART:19941030T080000
END:STANDARD
BEGIN:DAYLIGHT
TZOFFSETFROM:-0700
TZOFFSETTO:-0600
TZNAME:MDT
DTSTART:19950402T090000
END:DAYLIGHT
BEGIN:STANDARD
TZOFFSETFROM:-0600
TZOFFSETTO:-0700
TZNAME:MST
DTSTART:19951029T080000
END:STANDARD
END:VTIMEZONE
BEGIN:VEVENT
DTSTART;TZID=America/Denver:19940128T000000
DTEND;TZID=America/Denver:19940128T000000
DTSTAMP:20260420T185350
CREATED:20221003T175811Z
LAST-MODIFIED:20221003T175811Z
UID:2089-759715200-759715200@saltlakesymphony.org
SUMMARY:Evening in Vienna
DESCRIPTION:ConductorsDavid Dalton \n\nLehar Meine Lippin sie kussin so heoss\, from Giudetta Solo: Margo Watson\, soprano\nLehar Adale’s Laughing Song\, from The Merry Widow Solo: Margo Watson\, soprano\nSieczy?ski Vienna\, City of my Dreams Solo: Margo Watson\, soprano\nStrauss\, Johann Jr. Czardas\, from the Gypsy Baron Solo: Margo Watson\, soprano\nStrauss\, Johann Jr. Overture to the Gypsy Baron\nStrauss\, Johann Jr. Du und Du\, from die Fledermaus\nStrauss\, Johann Jr. Perpetuum Mobile\nStrauss\, Johann Jr. Tales from the Vienna Woods\nStrauss\, Johann Jr. Vilja\, from the Merry Widow Solo: Margo Watson\, soprano\nStrauss\, Johann Jr. Tick Tack Polka\nStrauss\, Johann Jr. Leichtes Blut Polka\nStrauss\, Johann Sr. Radetsky March
URL:https://saltlakesymphony.org/event/evening-in-vienna-4/
CATEGORIES:Concerts
END:VEVENT
BEGIN:VEVENT
DTSTART;TZID=America/Denver:19931210T000000
DTEND;TZID=America/Denver:19931210T000000
DTSTAMP:20260420T185350
CREATED:20221003T175811Z
LAST-MODIFIED:20221003T175811Z
UID:2087-755481600-755481600@saltlakesymphony.org
SUMMARY:Christmas
DESCRIPTION:ConductorsDavid Dalton or Bryce Rytting \n\nBach Wachet auf\, ruft uns die stimme from cantata BWV 140 repeated 11/12/93 and partially on Dec. 3 and 4 at Wasatch Presbyterian \nBach Singt dem Herrn ein neues Lied\nBerlioz Song of the Shepard Family from the Childhood of Christ\nBritten Ceremony of Carols\, selections\nElgar Sospiri\nHandel Concerto Grosso in F major\, op. 6 #2\nTorelli Concerto Grosso in G minor “Christmas” op.6 #8\ntraditional O Come all ye Faithful\nVaughan Williams Fantasia on Greensleeves\n\nGuestPro Musica (Bryce Rytting\, director)
URL:https://saltlakesymphony.org/event/christmas/
CATEGORIES:Concerts
END:VEVENT
BEGIN:VEVENT
DTSTART;TZID=America/Denver:19931111T000000
DTEND;TZID=America/Denver:19931111T000000
DTSTAMP:20260420T185350
CREATED:20221003T175811Z
LAST-MODIFIED:20221003T175811Z
UID:2086-752976000-752976000@saltlakesymphony.org
SUMMARY:Concert
DESCRIPTION:ConductorsDavid Dalton \n\nDebussy Prelude to the Afternoon of a Faun\nIbert\, Jacques Escalea (Ports of Call)\nRavel Rapsodie Espagnole
URL:https://saltlakesymphony.org/event/concert-32/
CATEGORIES:Concerts
END:VEVENT
BEGIN:VEVENT
DTSTART;TZID=America/Denver:19931014T000000
DTEND;TZID=America/Denver:19931015T000000
DTSTAMP:20260420T185350
CREATED:20221003T175611Z
LAST-MODIFIED:20221003T175611Z
UID:2084-750556800-750643200@saltlakesymphony.org
SUMMARY:English Music
DESCRIPTION:ConductorsDavid Dalton \n\nElgar Introduction and Allegro for String Quartet and String Orchestra Solo: John Steiner\, Elizabeth Plamer\, Mario Ortiz\, Robert England
URL:https://saltlakesymphony.org/event/english-music/
CATEGORIES:Concerts
END:VEVENT
BEGIN:VEVENT
DTSTART;TZID=America/Denver:19931014T000000
DTEND;TZID=America/Denver:19931014T000000
DTSTAMP:20260420T185350
CREATED:20221003T175611Z
LAST-MODIFIED:20221003T175611Z
UID:2085-750556800-750556800@saltlakesymphony.org
SUMMARY:English Music
DESCRIPTION:ConductorsDavid Dalton \n\nHolst The Planets
URL:https://saltlakesymphony.org/event/english-music-2/
CATEGORIES:Concerts
END:VEVENT
BEGIN:VEVENT
DTSTART;TZID=America/Denver:19930514T000000
DTEND;TZID=America/Denver:19930515T000000
DTSTAMP:20260420T185350
CREATED:20221003T175611Z
LAST-MODIFIED:20221003T175611Z
UID:2083-737337600-737424000@saltlakesymphony.org
SUMMARY:Concert
DESCRIPTION:ConductorsDavid Dalton \n\nBrahms Academic Festival Overture\nDvo?ák Symphony #8\nSibelius The Swan of Tuonela Solo: Hilary Coon\, English horn
URL:https://saltlakesymphony.org/event/concert-31/
CATEGORIES:Concerts
END:VEVENT
BEGIN:VEVENT
DTSTART;TZID=America/Denver:19930325T000000
DTEND;TZID=America/Denver:19930327T000000
DTSTAMP:20260420T185350
CREATED:20221003T175611Z
LAST-MODIFIED:20221003T175611Z
UID:2082-733017600-733190400@saltlakesymphony.org
SUMMARY:Concert
DESCRIPTION:ConductorsDavid Dalton \n\nBerlioz Roman Carnival Overture\nBerlioz Damnation of Faust\, excerpts\nBerlioz Harold in Italy Solo: Clyn Barrus\, viola
URL:https://saltlakesymphony.org/event/concert-30/
CATEGORIES:Concerts
END:VEVENT
BEGIN:VEVENT
DTSTART;TZID=America/Denver:19930122T000000
DTEND;TZID=America/Denver:19930123T000000
DTSTAMP:20260420T185350
CREATED:20221003T175610Z
LAST-MODIFIED:20221003T175610Z
UID:2081-727660800-727747200@saltlakesymphony.org
SUMMARY:Evening in Vienna
DESCRIPTION:ConductorsDavid Dalton \n\nLehar Das ist mein ganzes Herz from Das Land des Lachelns Solo: Lawrence Vincent\, tenor\nLehar Freunde\, das Leben ist lebenswert from Guiditta Solo: Lawrence Vincent\, tenor\nMozart Dies Bildness ist bezaubernd schon from Die Zauberflote Solo: Lawrence Vincent\, tenor\nMozart Il mio tesoro from Don Giovani Solo: Lawrence Vincent\, tenor\nMozart Overture to Die Entfurung aus dem Seria\nSieczy?ski Wien\, du Stadt meiner Traume Solo: Lawrence Vincent\, tenor\nStrauss\, Johann Jr. Banditen Galop\nStrauss\, Johann Jr. Komm in die Gondel from Eine Nacht in Venedig\nStrauss\, Johann Jr. Als flotter Geist from Der Zieunerbaron Solo: Lawrence Vincent\, tenor\nStrauss\, Johann Jr. Auf der schonen Blauen Donau\nStrauss\, Johann Sr. Radetsky March\nStrauss\, Josef Plappermaulchen Polka\nSuppe Fatinitza Overture
URL:https://saltlakesymphony.org/event/evening-in-vienna-2/
CATEGORIES:Concerts
END:VEVENT
BEGIN:VEVENT
DTSTART;TZID=America/Denver:19921211T000000
DTEND;TZID=America/Denver:19921211T000000
DTSTAMP:20260420T185350
CREATED:20221003T175410Z
LAST-MODIFIED:20221003T175410Z
UID:2080-724032000-724032000@saltlakesymphony.org
SUMMARY:Concert
DESCRIPTION:ConductorsDavid Dalton \n\nAnderson\, Leroy Sleigh Ride concert repeated 12/12/92 at Park City Community Church\nnan selections for brass and organ concert repeated 12/12/92 at Park City Community Church\nBach Nun Danket Alle Gott\, from cantata #79 concert repeated 12/12/92 at Park City Community Church\nBarber Die Natale\, Choral Preludes for Christmas concert repeated 12/12/92 at Park City Community Church\nCorelli Concerto Grosso in G minr\, Op. 6 #8 “Christmas” concert repeated 12/12/92 at Park City Community Church\nGabrieli\, Giovanni Hodie Christus Natus Est concert repeated 12/12/92 at Park City Community Church\nMozart\, Leopold Sleigh Ride concert repeated 12/12/92 at Park City Community Church\nVaughan Williams Fantasia on Greensleeves concert repeated 12/12/92 at Park City Community Church
URL:https://saltlakesymphony.org/event/concert-29/
CATEGORIES:Concerts
END:VEVENT
BEGIN:VEVENT
DTSTART;TZID=America/Denver:19921113T000000
DTEND;TZID=America/Denver:19921114T000000
DTSTAMP:20260420T185350
CREATED:20221003T175410Z
LAST-MODIFIED:20221003T175410Z
UID:2079-721612800-721699200@saltlakesymphony.org
SUMMARY:Concert
DESCRIPTION:ConductorsDavid Dalton \n\nMahler Symphony #4 Solo: Elizabeth Paniagua\, soprano\nRossini An Italian Girl in Algiers\, Overture
URL:https://saltlakesymphony.org/event/concert-28/
CATEGORIES:Concerts
END:VEVENT
BEGIN:VEVENT
DTSTART;TZID=America/Denver:19921009T000000
DTEND;TZID=America/Denver:19921010T000000
DTSTAMP:20260420T185350
CREATED:20221003T175410Z
LAST-MODIFIED:20221003T175410Z
UID:2078-718588800-718675200@saltlakesymphony.org
SUMMARY:Concert
DESCRIPTION:ConductorsDavid Dalton \n\nBernstein Three Danse Episodes from On the Town\nGershwin An American in Paris\nGrofé Grand Canyon Suite
URL:https://saltlakesymphony.org/event/concert-27/
CATEGORIES:Concerts
END:VEVENT
BEGIN:VEVENT
DTSTART;TZID=America/Denver:19920515T000000
DTEND;TZID=America/Denver:19920516T000000
DTSTAMP:20260420T185350
CREATED:20221003T175410Z
LAST-MODIFIED:20221003T175410Z
UID:2077-705888000-705974400@saltlakesymphony.org
SUMMARY:Concert
DESCRIPTION:ConductorsDavid Dalton \n\nBach Brandenburg Concerto #4\nCopland El Salon Mexico\nWagner Forest Murmurs from Siegfried\nWagner Siegfried’s Death and Funeral music from Gotterdamerung
URL:https://saltlakesymphony.org/event/concert-26/
CATEGORIES:Concerts
END:VEVENT
BEGIN:VEVENT
DTSTART;TZID=America/Denver:19920320T000000
DTEND;TZID=America/Denver:19920321T000000
DTSTAMP:20260420T185350
CREATED:20221003T175409Z
LAST-MODIFIED:20221003T175409Z
UID:2076-701049600-701136000@saltlakesymphony.org
SUMMARY:Concert
DESCRIPTION:ConductorsNico Snell \n\nBrahms Symphony #1\nDebussy Danses for Harp and Strings Solo: Lynette Wardle\nDvo?ák Carnival Overture
URL:https://saltlakesymphony.org/event/concert-25/
CATEGORIES:Concerts
END:VEVENT
BEGIN:VEVENT
DTSTART;TZID=America/Denver:19911205T000000
DTEND;TZID=America/Denver:19911205T000000
DTSTAMP:20260420T185350
CREATED:20221003T175209Z
LAST-MODIFIED:20221003T175209Z
UID:2075-691891200-691891200@saltlakesymphony.org
SUMMARY:Concert
DESCRIPTION:ConductorsDavid Dalton \n\nAlbinoni Adagio in G minor for strings and organ concert repeated 12/6/91 at St. Ann’s Cathedral\nnan selections for brass and organ concert repeated 12/6/91 at St. Ann’s Cathedral\nMillet\, Robert Partita on Greensleeves concert repeated 12/6/91 at St. Ann’s Cathedral\nRimsky-Korsakov Polonaise from Christmas Eve concert repeated 12/6/91 at St. Ann’s Cathedral\nTchaikovsky Nutcracker\, suite concert repeated 12/6/91 at St. Ann’s Cathedral\nTorelli Concerto Grosso in G minor concert repeated 12/6/91 at St. Ann’s Cathedral
URL:https://saltlakesymphony.org/event/concert-24/
CATEGORIES:Concerts
END:VEVENT
BEGIN:VEVENT
DTSTART;TZID=America/Denver:19911025T000000
DTEND;TZID=America/Denver:19911026T000000
DTSTAMP:20260420T185350
CREATED:20221003T175209Z
LAST-MODIFIED:20221003T175209Z
UID:2074-688348800-688435200@saltlakesymphony.org
SUMMARY:Concert
DESCRIPTION:ConductorsDavid Dalton \n\nBloch Schelomo\, Rapsodie hebraique for Cello and Orchestra Solo: Roger Drinkall\nElgar Enigma Variations\nMozart The Impressario\, Overture
URL:https://saltlakesymphony.org/event/concert-23/
CATEGORIES:Concerts
END:VEVENT
BEGIN:VEVENT
DTSTART;TZID=America/Denver:19910411T000000
DTEND;TZID=America/Denver:19910411T000000
DTSTAMP:20260420T185350
CREATED:20221003T175208Z
LAST-MODIFIED:20221003T175208Z
UID:2071-671328000-671328000@saltlakesymphony.org
SUMMARY:Concert
DESCRIPTION:ConductorsDavid Dalton \n\nBach Concerto two Violins in D minor\, vivace Solo: Michael Abegg and Samuel Dastrup\nHaydn Concerto for Piano in F major\, con spirito Solo: Marianne Oldham\nMendelssohn Concerto for Violin in E minor\, allegro motto vivace Solo: Aaron Chamberlain\nRodrigo Concerto d’Aranjuez for Harp Solo: Alysa Ray\nSaint-Saëns Allegro Appassionato for cello Solo: Ryan Swigert\nVivaldi Concerto for Violin in A minor\, Op.3 #6\, Allegro Solo: Ashley Kunz\nVivaldi Concerto for four Violin in B minor op.3 no.10\, allegro Solo: Ashley Madsen\, Katie Mason\, Melissa Price\, Amanda Ridge
URL:https://saltlakesymphony.org/event/concert-21/
CATEGORIES:Concerts
END:VEVENT
BEGIN:VEVENT
DTSTART;TZID=America/Denver:19910315T000000
DTEND;TZID=America/Denver:19910316T000000
DTSTAMP:20260420T185350
CREATED:20221003T175008Z
LAST-MODIFIED:20221003T175008Z
UID:2070-668995200-669081600@saltlakesymphony.org
SUMMARY:Concert
DESCRIPTION:ConductorsClyn Barrus \n\nBradshaw\, Merrill Love and Death: Four Elizabethan Lyrics for soprano\, viola and strings Solo: Donna Dalton\, soprano and David Dalton\, viola\nDvo?ák Symphony #7 in D minor\nMozart Marriage of Figaro\, Overture
URL:https://saltlakesymphony.org/event/concert-20/
CATEGORIES:Concerts
END:VEVENT
BEGIN:VEVENT
DTSTART;TZID=America/Denver:19910207T000000
DTEND;TZID=America/Denver:19910209T000000
DTSTAMP:20260420T185350
CREATED:20221003T175209Z
LAST-MODIFIED:20221003T175209Z
UID:2073-665884800-666057600@saltlakesymphony.org
SUMMARY:Evening in Vienna
DESCRIPTION:ConductorsDavid Dalton \n\nMozart Four German Dances\nSieczy?ski Vienna City of my Dreams\nStrauss\, Johann Jr. Tales fromVienna Woods\nStrauss\, Johann Jr. Persian March\nStrauss\, Johann Jr. Champaign Polka\nStrauss\, Johann Sr. Radetzky March\nStrauss\, Richard Der Rosenkavalier\, suite\nSuppe The Beautiful Galathea\, Overture
URL:https://saltlakesymphony.org/event/evening-in-vienna/
CATEGORIES:Concerts
END:VEVENT
BEGIN:VEVENT
DTSTART;TZID=America/Denver:19901215T000000
DTEND;TZID=America/Denver:19901215T000000
DTSTAMP:20260420T185350
CREATED:20221003T175208Z
LAST-MODIFIED:20221003T175208Z
UID:2072-661219200-661219200@saltlakesymphony.org
SUMMARY:Concert
DESCRIPTION:ConductorsDavid Dalton \n\nAnderson\, Leroy Sleigh Ride\nnan Selections for Brass and Organ Solo: Donna Dalton\, soprano and David Dalton\, viola\nHandel Concerto Grosso in F Major\, Op.6\, #2\ntraditional Christmas Medley Arr: Harris\, Arthur\nMenotti Introduction\, March and Shepherds Dance from Amahl and the Night Visitors\nMozart\, Leopold Sleigh Ride\nVivaldi IConcerto for Two Violins in A Minor\, Op.3 No.5 soloists were sisters Solo: Marilyn Felt Anderson and Francine Felt Potter
URL:https://saltlakesymphony.org/event/concert-22/
CATEGORIES:Concerts
END:VEVENT
BEGIN:VEVENT
DTSTART;TZID=America/Denver:19900518T000000
DTEND;TZID=America/Denver:19900519T000000
DTSTAMP:20260420T185350
CREATED:20221003T175008Z
LAST-MODIFIED:20221003T175008Z
UID:2069-642988800-643075200@saltlakesymphony.org
SUMMARY:Concert
DESCRIPTION:ConductorsWilfred Schwartz \n\nHanson\, Howard Symphony #2 (Romantic)\nMozart Concerto for Flute 32 in D major Solo: Gary Bloomgren (SLS principal)\nStravinsky Divertimento\, from Suite Symphonique\nWolf-Ferrari The Secret of Suzanne\, Overture
URL:https://saltlakesymphony.org/event/concert-19/
CATEGORIES:Concerts
END:VEVENT
BEGIN:VEVENT
DTSTART;TZID=America/Denver:19900315T000000
DTEND;TZID=America/Denver:19900315T000000
DTSTAMP:20260420T185350
CREATED:20221003T175008Z
LAST-MODIFIED:20221003T175008Z
UID:2068-637459200-637459200@saltlakesymphony.org
SUMMARY:Concert
DESCRIPTION:ConductorsGeorge Welch \n\nOrff Carmina Burana Date approximate Solo: Clayne Robison\, Elizabeth Paniagua\, Cheryl Hart\n\nGuestSalt Lake Symphonic Choir
URL:https://saltlakesymphony.org/event/concert-18/
CATEGORIES:Concerts
END:VEVENT
BEGIN:VEVENT
DTSTART;TZID=America/Denver:19891025T000000
DTEND;TZID=America/Denver:19891028T000000
DTSTAMP:20260420T185350
CREATED:20221003T175007Z
LAST-MODIFIED:20221003T175007Z
UID:2067-625276800-625536000@saltlakesymphony.org
SUMMARY:Concert
DESCRIPTION:ConductorsDavid Dalton \n\nTelemann Concerto in G Major Solo: Scott Tribby
URL:https://saltlakesymphony.org/event/concert-17/
CATEGORIES:Concerts
END:VEVENT
BEGIN:VEVENT
DTSTART;TZID=America/Denver:19890512T000000
DTEND;TZID=America/Denver:19890513T000000
DTSTAMP:20260420T185350
CREATED:20221003T175007Z
LAST-MODIFIED:20221003T175007Z
UID:2066-610934400-611020800@saltlakesymphony.org
SUMMARY:Concert
DESCRIPTION:ConductorsDavid Dalton \n\nProkofiev Romeo and Juliet\, Suite #2\nRossini Overture to The Barber of Seville\nVaughan Williams Concerto for Bass Tuba and Orchestra Solo: Joel Kimzey
URL:https://saltlakesymphony.org/event/concert-16/
CATEGORIES:Concerts
END:VEVENT
BEGIN:VEVENT
DTSTART;TZID=America/Denver:19881027T000000
DTEND;TZID=America/Denver:19881028T000000
DTSTAMP:20260420T185350
CREATED:20221003T174807Z
LAST-MODIFIED:20221003T174807Z
UID:2065-593913600-594000000@saltlakesymphony.org
SUMMARY:Concert
DESCRIPTION:ConductorsDavid Dalton \n\nBeethoven Symphony #4\nBernstein Overture to Candide\nGlazounov Concerto for Violin in A Minor\, Op. 82 Solo: Alison Dalton
URL:https://saltlakesymphony.org/event/concert-15/
CATEGORIES:Concerts
END:VEVENT
BEGIN:VEVENT
DTSTART;TZID=America/Denver:19880426T000000
DTEND;TZID=America/Denver:19880427T000000
DTSTAMP:20260420T185350
CREATED:20221003T174807Z
LAST-MODIFIED:20221003T174807Z
UID:2064-578016000-578102400@saltlakesymphony.org
SUMMARY:Concert
DESCRIPTION:ConductorsDavid Dalton \n\nSibelius Pohjola’s Daughter\nTchaikovsky Seenade Melancolique Solo: Joseph Silverstein\nVieuxtemps\, Henri Violin Concerto #5 Solo: Joseph Silverstein\nWagner Apprentices and Mastersingers Procession from Die Meistersinger
URL:https://saltlakesymphony.org/event/concert-14/
CATEGORIES:Concerts
END:VEVENT
BEGIN:VEVENT
DTSTART;TZID=America/Denver:19870508T000000
DTEND;TZID=America/Denver:19870509T000000
DTSTAMP:20260420T185350
CREATED:20221003T174807Z
LAST-MODIFIED:20221003T174807Z
UID:2063-547430400-547516800@saltlakesymphony.org
SUMMARY:Concert
DESCRIPTION:ConductorsDavid Dalton \n\nBeethoven Concerto for Violin\, Cello and Piano Solo: Barbara Williams\, Julie Zumsteg\, Irene Peery\nHaydn L’isola Diabitata\, Overture Solo:  \nStravinsky Suite from the Firebird
URL:https://saltlakesymphony.org/event/concert-13/
CATEGORIES:Concerts
END:VEVENT
BEGIN:VEVENT
DTSTART;TZID=America/Denver:19870320T000000
DTEND;TZID=America/Denver:19870321T000000
DTSTAMP:20260420T185350
CREATED:20221003T174806Z
LAST-MODIFIED:20221003T174806Z
UID:2062-543196800-543283200@saltlakesymphony.org
SUMMARY:Concert
DESCRIPTION:ConductorsMadeline Schatz \n\nBeethoven Overture to Coriolan\nMozart Sinfonia Conertanta in E flat Major Solo: Naomi\, Fred\, Phillip and Patricia Bonney
URL:https://saltlakesymphony.org/event/concert-12/
CATEGORIES:Concerts
END:VEVENT
BEGIN:VEVENT
DTSTART;TZID=America/Denver:19870123T000000
DTEND;TZID=America/Denver:19870124T000000
DTSTAMP:20260420T185350
CREATED:20221003T174806Z
LAST-MODIFIED:20221003T174806Z
UID:2061-538358400-538444800@saltlakesymphony.org
SUMMARY:Concert
DESCRIPTION:ConductorsDavid Dalton \n\nLiszt Les Preludes\nShostakovich Concerto #1 for cello and Orchestra Solo: Andrew Pearce\nSmetana Wallenstein’s Camp
URL:https://saltlakesymphony.org/event/concert-11/
CATEGORIES:Concerts
END:VEVENT
BEGIN:VEVENT
DTSTART;TZID=America/Denver:19861031T000000
DTEND;TZID=America/Denver:19861101T000000
DTSTAMP:20260420T185350
CREATED:20221003T174636Z
LAST-MODIFIED:20221003T174636Z
UID:2059-531100800-531187200@saltlakesymphony.org
SUMMARY:Concert
DESCRIPTION:ConductorsDavid Dalton \n\nDvo?ák Symphony #9\, from the New World\nVaughan Williams Fantasia on a Theme by Thomas Tallis\nWeill\, Kurt Suite from the Threepenney Opera Arr: Max Schonherr
URL:https://saltlakesymphony.org/event/concert-10/
CATEGORIES:Concerts
END:VEVENT
BEGIN:VEVENT
DTSTART;TZID=America/Denver:19831111T000000
DTEND;TZID=America/Denver:19831111T000000
DTSTAMP:20260420T185350
CREATED:20221003T174636Z
LAST-MODIFIED:20221003T174636Z
UID:2058-437356800-437356800@saltlakesymphony.org
SUMMARY:Concert
DESCRIPTION:ConductorsDavid Dalton \n\nCastelnuevo-Tedesco Concerto for Two Guitars and Orchestra\, Op. 201 Solo: Jensen Woodbury Duo\nNielsen\, Carl Symphony #2\, The Four Temperaments\nWagner Dance of the Apprentices and Procession of the Meistersingers\, from Die Meistersinger
URL:https://saltlakesymphony.org/event/concert-9/
CATEGORIES:Concerts
END:VEVENT
END:VCALENDAR