BEGIN:VCALENDAR
VERSION:2.0
PRODID:-//Salt Lake Symphony - ECPv6.15.20//NONSGML v1.0//EN
CALSCALE:GREGORIAN
METHOD:PUBLISH
X-WR-CALNAME:Salt Lake Symphony
X-ORIGINAL-URL:https://saltlakesymphony.org
X-WR-CALDESC:Events for Salt Lake Symphony
REFRESH-INTERVAL;VALUE=DURATION:PT1H
X-Robots-Tag:noindex
X-PUBLISHED-TTL:PT1H
BEGIN:VTIMEZONE
TZID:America/Denver
BEGIN:DAYLIGHT
TZOFFSETFROM:-0700
TZOFFSETTO:-0600
TZNAME:MDT
DTSTART:19790429T090000
END:DAYLIGHT
BEGIN:STANDARD
TZOFFSETFROM:-0600
TZOFFSETTO:-0700
TZNAME:MST
DTSTART:19791028T080000
END:STANDARD
BEGIN:DAYLIGHT
TZOFFSETFROM:-0700
TZOFFSETTO:-0600
TZNAME:MDT
DTSTART:19800427T090000
END:DAYLIGHT
BEGIN:STANDARD
TZOFFSETFROM:-0600
TZOFFSETTO:-0700
TZNAME:MST
DTSTART:19801026T080000
END:STANDARD
BEGIN:DAYLIGHT
TZOFFSETFROM:-0700
TZOFFSETTO:-0600
TZNAME:MDT
DTSTART:19810426T090000
END:DAYLIGHT
BEGIN:STANDARD
TZOFFSETFROM:-0600
TZOFFSETTO:-0700
TZNAME:MST
DTSTART:19811025T080000
END:STANDARD
BEGIN:DAYLIGHT
TZOFFSETFROM:-0700
TZOFFSETTO:-0600
TZNAME:MDT
DTSTART:19820425T090000
END:DAYLIGHT
BEGIN:STANDARD
TZOFFSETFROM:-0600
TZOFFSETTO:-0700
TZNAME:MST
DTSTART:19821031T080000
END:STANDARD
BEGIN:DAYLIGHT
TZOFFSETFROM:-0700
TZOFFSETTO:-0600
TZNAME:MDT
DTSTART:19830424T090000
END:DAYLIGHT
BEGIN:STANDARD
TZOFFSETFROM:-0600
TZOFFSETTO:-0700
TZNAME:MST
DTSTART:19831030T080000
END:STANDARD
BEGIN:DAYLIGHT
TZOFFSETFROM:-0700
TZOFFSETTO:-0600
TZNAME:MDT
DTSTART:19840429T090000
END:DAYLIGHT
BEGIN:STANDARD
TZOFFSETFROM:-0600
TZOFFSETTO:-0700
TZNAME:MST
DTSTART:19841028T080000
END:STANDARD
BEGIN:DAYLIGHT
TZOFFSETFROM:-0700
TZOFFSETTO:-0600
TZNAME:MDT
DTSTART:19850428T090000
END:DAYLIGHT
BEGIN:STANDARD
TZOFFSETFROM:-0600
TZOFFSETTO:-0700
TZNAME:MST
DTSTART:19851027T080000
END:STANDARD
BEGIN:DAYLIGHT
TZOFFSETFROM:-0700
TZOFFSETTO:-0600
TZNAME:MDT
DTSTART:19860427T090000
END:DAYLIGHT
BEGIN:STANDARD
TZOFFSETFROM:-0600
TZOFFSETTO:-0700
TZNAME:MST
DTSTART:19861026T080000
END:STANDARD
BEGIN:DAYLIGHT
TZOFFSETFROM:-0700
TZOFFSETTO:-0600
TZNAME:MDT
DTSTART:19870405T090000
END:DAYLIGHT
BEGIN:STANDARD
TZOFFSETFROM:-0600
TZOFFSETTO:-0700
TZNAME:MST
DTSTART:19871025T080000
END:STANDARD
BEGIN:DAYLIGHT
TZOFFSETFROM:-0700
TZOFFSETTO:-0600
TZNAME:MDT
DTSTART:19880403T090000
END:DAYLIGHT
BEGIN:STANDARD
TZOFFSETFROM:-0600
TZOFFSETTO:-0700
TZNAME:MST
DTSTART:19881030T080000
END:STANDARD
BEGIN:DAYLIGHT
TZOFFSETFROM:-0700
TZOFFSETTO:-0600
TZNAME:MDT
DTSTART:19890402T090000
END:DAYLIGHT
BEGIN:STANDARD
TZOFFSETFROM:-0600
TZOFFSETTO:-0700
TZNAME:MST
DTSTART:19891029T080000
END:STANDARD
BEGIN:DAYLIGHT
TZOFFSETFROM:-0700
TZOFFSETTO:-0600
TZNAME:MDT
DTSTART:19900401T090000
END:DAYLIGHT
BEGIN:STANDARD
TZOFFSETFROM:-0600
TZOFFSETTO:-0700
TZNAME:MST
DTSTART:19901028T080000
END:STANDARD
END:VTIMEZONE
BEGIN:VEVENT
DTSTART;TZID=America/Denver:19890512T000000
DTEND;TZID=America/Denver:19890513T000000
DTSTAMP:20260420T064157
CREATED:20221003T175007Z
LAST-MODIFIED:20221003T175007Z
UID:2066-610934400-611020800@saltlakesymphony.org
SUMMARY:Concert
DESCRIPTION:ConductorsDavid Dalton \n\nProkofiev Romeo and Juliet\, Suite #2\nRossini Overture to The Barber of Seville\nVaughan Williams Concerto for Bass Tuba and Orchestra Solo: Joel Kimzey
URL:https://saltlakesymphony.org/event/concert-16/
CATEGORIES:Concerts
END:VEVENT
BEGIN:VEVENT
DTSTART;TZID=America/Denver:19881027T000000
DTEND;TZID=America/Denver:19881028T000000
DTSTAMP:20260420T064157
CREATED:20221003T174807Z
LAST-MODIFIED:20221003T174807Z
UID:2065-593913600-594000000@saltlakesymphony.org
SUMMARY:Concert
DESCRIPTION:ConductorsDavid Dalton \n\nBeethoven Symphony #4\nBernstein Overture to Candide\nGlazounov Concerto for Violin in A Minor\, Op. 82 Solo: Alison Dalton
URL:https://saltlakesymphony.org/event/concert-15/
CATEGORIES:Concerts
END:VEVENT
BEGIN:VEVENT
DTSTART;TZID=America/Denver:19880426T000000
DTEND;TZID=America/Denver:19880427T000000
DTSTAMP:20260420T064157
CREATED:20221003T174807Z
LAST-MODIFIED:20221003T174807Z
UID:2064-578016000-578102400@saltlakesymphony.org
SUMMARY:Concert
DESCRIPTION:ConductorsDavid Dalton \n\nSibelius Pohjola’s Daughter\nTchaikovsky Seenade Melancolique Solo: Joseph Silverstein\nVieuxtemps\, Henri Violin Concerto #5 Solo: Joseph Silverstein\nWagner Apprentices and Mastersingers Procession from Die Meistersinger
URL:https://saltlakesymphony.org/event/concert-14/
CATEGORIES:Concerts
END:VEVENT
BEGIN:VEVENT
DTSTART;TZID=America/Denver:19870508T000000
DTEND;TZID=America/Denver:19870509T000000
DTSTAMP:20260420T064157
CREATED:20221003T174807Z
LAST-MODIFIED:20221003T174807Z
UID:2063-547430400-547516800@saltlakesymphony.org
SUMMARY:Concert
DESCRIPTION:ConductorsDavid Dalton \n\nBeethoven Concerto for Violin\, Cello and Piano Solo: Barbara Williams\, Julie Zumsteg\, Irene Peery\nHaydn L’isola Diabitata\, Overture Solo:  \nStravinsky Suite from the Firebird
URL:https://saltlakesymphony.org/event/concert-13/
CATEGORIES:Concerts
END:VEVENT
BEGIN:VEVENT
DTSTART;TZID=America/Denver:19870320T000000
DTEND;TZID=America/Denver:19870321T000000
DTSTAMP:20260420T064157
CREATED:20221003T174806Z
LAST-MODIFIED:20221003T174806Z
UID:2062-543196800-543283200@saltlakesymphony.org
SUMMARY:Concert
DESCRIPTION:ConductorsMadeline Schatz \n\nBeethoven Overture to Coriolan\nMozart Sinfonia Conertanta in E flat Major Solo: Naomi\, Fred\, Phillip and Patricia Bonney
URL:https://saltlakesymphony.org/event/concert-12/
CATEGORIES:Concerts
END:VEVENT
BEGIN:VEVENT
DTSTART;TZID=America/Denver:19870123T000000
DTEND;TZID=America/Denver:19870124T000000
DTSTAMP:20260420T064157
CREATED:20221003T174806Z
LAST-MODIFIED:20221003T174806Z
UID:2061-538358400-538444800@saltlakesymphony.org
SUMMARY:Concert
DESCRIPTION:ConductorsDavid Dalton \n\nLiszt Les Preludes\nShostakovich Concerto #1 for cello and Orchestra Solo: Andrew Pearce\nSmetana Wallenstein’s Camp
URL:https://saltlakesymphony.org/event/concert-11/
CATEGORIES:Concerts
END:VEVENT
BEGIN:VEVENT
DTSTART;TZID=America/Denver:19861031T000000
DTEND;TZID=America/Denver:19861101T000000
DTSTAMP:20260420T064157
CREATED:20221003T174636Z
LAST-MODIFIED:20221003T174636Z
UID:2059-531100800-531187200@saltlakesymphony.org
SUMMARY:Concert
DESCRIPTION:ConductorsDavid Dalton \n\nDvo?ák Symphony #9\, from the New World\nVaughan Williams Fantasia on a Theme by Thomas Tallis\nWeill\, Kurt Suite from the Threepenney Opera Arr: Max Schonherr
URL:https://saltlakesymphony.org/event/concert-10/
CATEGORIES:Concerts
END:VEVENT
BEGIN:VEVENT
DTSTART;TZID=America/Denver:19831111T000000
DTEND;TZID=America/Denver:19831111T000000
DTSTAMP:20260420T064157
CREATED:20221003T174636Z
LAST-MODIFIED:20221003T174636Z
UID:2058-437356800-437356800@saltlakesymphony.org
SUMMARY:Concert
DESCRIPTION:ConductorsDavid Dalton \n\nCastelnuevo-Tedesco Concerto for Two Guitars and Orchestra\, Op. 201 Solo: Jensen Woodbury Duo\nNielsen\, Carl Symphony #2\, The Four Temperaments\nWagner Dance of the Apprentices and Procession of the Meistersingers\, from Die Meistersinger
URL:https://saltlakesymphony.org/event/concert-9/
CATEGORIES:Concerts
END:VEVENT
BEGIN:VEVENT
DTSTART;TZID=America/Denver:19800614T000000
DTEND;TZID=America/Denver:19800614T000000
DTSTAMP:20260420T064157
CREATED:20221003T174636Z
LAST-MODIFIED:20221003T174636Z
UID:2057-329788800-329788800@saltlakesymphony.org
SUMMARY:Concert
DESCRIPTION:ConductorsWilliam R. Johnson \n\nBeethoven Symphony #7\, 4th movement Tooele Stake Sesquicentennial.  (Still “Salt Lake Repertory Orchestra.)\nBizet Carmen Suite #1 Tooele Stake Sesquicentennial.  (Still “Salt Lake Repertory Orchestra.)\nBrahms Academic Festival Overture Tooele Stake Sesquicentennial.  (Still “Salt Lake Repertory Orchestra.)\nCopland Dance Episodes from Rodeo Tooele Stake Sesquicentennial.  (Still “Salt Lake Repertory Orchestra.)\nSaint-Saëns Danse Baccanale Tooele Stake Sesquicentennial.  (Still “Salt Lake Repertory Orchestra.)\nStrauss\, Johann Jr. Tales from the Vienna Woods Tooele Stake Sesquicentennial.  (Still “Salt Lake Repertory Orchestra.)
URL:https://saltlakesymphony.org/event/concert-8/
CATEGORIES:Concerts
END:VEVENT
END:VCALENDAR