BEGIN:VCALENDAR
VERSION:2.0
PRODID:-//Salt Lake Symphony - ECPv6.15.20//NONSGML v1.0//EN
CALSCALE:GREGORIAN
METHOD:PUBLISH
X-ORIGINAL-URL:https://saltlakesymphony.org
X-WR-CALDESC:Events for Salt Lake Symphony
REFRESH-INTERVAL;VALUE=DURATION:PT1H
X-Robots-Tag:noindex
X-PUBLISHED-TTL:PT1H
BEGIN:VTIMEZONE
TZID:America/Denver
BEGIN:DAYLIGHT
TZOFFSETFROM:-0700
TZOFFSETTO:-0600
TZNAME:MDT
DTSTART:20220313T090000
END:DAYLIGHT
BEGIN:STANDARD
TZOFFSETFROM:-0600
TZOFFSETTO:-0700
TZNAME:MST
DTSTART:20221106T080000
END:STANDARD
BEGIN:DAYLIGHT
TZOFFSETFROM:-0700
TZOFFSETTO:-0600
TZNAME:MDT
DTSTART:20230312T090000
END:DAYLIGHT
BEGIN:STANDARD
TZOFFSETFROM:-0600
TZOFFSETTO:-0700
TZNAME:MST
DTSTART:20231105T080000
END:STANDARD
BEGIN:DAYLIGHT
TZOFFSETFROM:-0700
TZOFFSETTO:-0600
TZNAME:MDT
DTSTART:20240310T090000
END:DAYLIGHT
BEGIN:STANDARD
TZOFFSETFROM:-0600
TZOFFSETTO:-0700
TZNAME:MST
DTSTART:20241103T080000
END:STANDARD
END:VTIMEZONE
BEGIN:VEVENT
DTSTART;TZID=America/Denver:20230318T193000
DTEND;TZID=America/Denver:20230318T193000
DTSTAMP:20260423T073750
CREATED:20230215T200154Z
LAST-MODIFIED:20230308T013737Z
UID:2842-1679167800-1679167800@saltlakesymphony.org
SUMMARY:Welcome Spring
DESCRIPTION:Guest Artist\n\n\n\nKasia Sokol-Borup \n\n\n\nConductors\n\n\n\nBrandon Horrocks\, Barbara Scowcroft \n\n\n\nProgram\n\n\n\nWilliam Grant Still – Festive Overture \n\n\n\nVaughan Williams – The Lark Ascending \n\n\n\nBrahms – Symphony #4 (in E Minor\, op. 98 )
URL:https://saltlakesymphony.org/event/welcome-spring/
LOCATION:Mid-Valley Performing Arts Center\, Mid-Valley Performing Arts Center 2525 Taylorsville Blvd\, Taylorsville\, 84129\, United States
CATEGORIES:Concerts
ATTACH;FMTTYPE=image/jpeg:https://saltlakesymphony.org/wp-content/uploads/2023/02/SLS_March2023_poster-e1678239373548.jpg
END:VEVENT
END:VCALENDAR