BEGIN:VCALENDAR
VERSION:2.0
PRODID:-//Salt Lake Symphony - ECPv6.15.20//NONSGML v1.0//EN
CALSCALE:GREGORIAN
METHOD:PUBLISH
X-ORIGINAL-URL:https://saltlakesymphony.org
X-WR-CALDESC:Events for Salt Lake Symphony
REFRESH-INTERVAL;VALUE=DURATION:PT1H
X-Robots-Tag:noindex
X-PUBLISHED-TTL:PT1H
BEGIN:VTIMEZONE
TZID:America/Denver
BEGIN:DAYLIGHT
TZOFFSETFROM:-0700
TZOFFSETTO:-0600
TZNAME:MDT
DTSTART:20220313T090000
END:DAYLIGHT
BEGIN:STANDARD
TZOFFSETFROM:-0600
TZOFFSETTO:-0700
TZNAME:MST
DTSTART:20221106T080000
END:STANDARD
BEGIN:DAYLIGHT
TZOFFSETFROM:-0700
TZOFFSETTO:-0600
TZNAME:MDT
DTSTART:20230312T090000
END:DAYLIGHT
BEGIN:STANDARD
TZOFFSETFROM:-0600
TZOFFSETTO:-0700
TZNAME:MST
DTSTART:20231105T080000
END:STANDARD
BEGIN:DAYLIGHT
TZOFFSETFROM:-0700
TZOFFSETTO:-0600
TZNAME:MDT
DTSTART:20240310T090000
END:DAYLIGHT
BEGIN:STANDARD
TZOFFSETFROM:-0600
TZOFFSETTO:-0700
TZNAME:MST
DTSTART:20241103T080000
END:STANDARD
END:VTIMEZONE
BEGIN:VEVENT
DTSTART;TZID=America/Denver:20230520T193000
DTEND;TZID=America/Denver:20230520T193000
DTSTAMP:20260423T043533
CREATED:20221031T164326Z
LAST-MODIFIED:20230329T171533Z
UID:2644-1684611000-1684611000@saltlakesymphony.org
SUMMARY:Family Outreach Concert: Tales from the Mist
DESCRIPTION:Conductors\n\n\n\nRobert Baldwin\, Brandon Horrocks \n\n\n\nDANIEL TUUTAU\, Narrator \n\n\n\nProgram\n\n\n\nSmetana: The Moldau from Ma vlast (Side by side) \n\n\n\nJerod Impichchaachaaha’ Tate: Chokfi’ (Horrocks) \n\n\n\nKile Smith: The Bremen Town Musicians \n\n\n\nMichael Giacchino: Suite from Disney’s Coco \n\n\n\nDan Welcher: Haleakala: How Maui Snared the Sun (Horrocks) \n\n\n\nArturo Marquez’s Conga Del Fuego Nuevo 
URL:https://saltlakesymphony.org/event/family-outreach-concert-tales-from-the-mist/
LOCATION:Libby Gardner Concert Hall\, Libby Gardner Concert Hall 1375 Presidents' Circle\, Salt Lake City\, UT\, 84112\, United States
CATEGORIES:Concerts
ATTACH;FMTTYPE=image/jpeg:https://saltlakesymphony.org/wp-content/uploads/2023/03/May-2023-poster-scaled-e1680110096825.jpg
END:VEVENT
END:VCALENDAR