BEGIN:VCALENDAR
VERSION:2.0
PRODID:-//Salt Lake Symphony - ECPv6.15.20//NONSGML v1.0//EN
CALSCALE:GREGORIAN
METHOD:PUBLISH
X-WR-CALNAME:Salt Lake Symphony
X-ORIGINAL-URL:https://saltlakesymphony.org
X-WR-CALDESC:Events for Salt Lake Symphony
REFRESH-INTERVAL;VALUE=DURATION:PT1H
X-Robots-Tag:noindex
X-PUBLISHED-TTL:PT1H
BEGIN:VTIMEZONE
TZID:America/Denver
BEGIN:DAYLIGHT
TZOFFSETFROM:-0700
TZOFFSETTO:-0600
TZNAME:MDT
DTSTART:20230312T090000
END:DAYLIGHT
BEGIN:STANDARD
TZOFFSETFROM:-0600
TZOFFSETTO:-0700
TZNAME:MST
DTSTART:20231105T080000
END:STANDARD
BEGIN:DAYLIGHT
TZOFFSETFROM:-0700
TZOFFSETTO:-0600
TZNAME:MDT
DTSTART:20240310T090000
END:DAYLIGHT
BEGIN:STANDARD
TZOFFSETFROM:-0600
TZOFFSETTO:-0700
TZNAME:MST
DTSTART:20241103T080000
END:STANDARD
BEGIN:DAYLIGHT
TZOFFSETFROM:-0700
TZOFFSETTO:-0600
TZNAME:MDT
DTSTART:20250309T090000
END:DAYLIGHT
BEGIN:STANDARD
TZOFFSETFROM:-0600
TZOFFSETTO:-0700
TZNAME:MST
DTSTART:20251102T080000
END:STANDARD
END:VTIMEZONE
BEGIN:VEVENT
DTSTART;TZID=America/Denver:20240518T193000
DTEND;TZID=America/Denver:20240518T193000
DTSTAMP:20260420T163852
CREATED:20230722T014238Z
LAST-MODIFIED:20240517T025431Z
UID:4095-1716060600-1716060600@saltlakesymphony.org
SUMMARY:Verdi's Requiem
DESCRIPTION:Conductors\n\n\n\nEverett McCorvey \n\n\n\nGuests\n\n\n\n\nUtah Voices\n\n\n\nEverett McCorvey\, Conductor\n\n\n\nMichelle Pedersen\, Soprano\n\n\n\nAubrey Adams-McMillan\, Mezzo-Soprano\n\n\n\nRobert Breault\, Tenor\n\n\n\nSeth Keeton\, Bass\n\n\n\n\n \n\n\n\nProgram\n\n\n\n\nGiuseppe Verdi: Messa di Requiem
URL:https://saltlakesymphony.org/event/verdis-requiem/
LOCATION:Libby Gardner Concert Hall\, Libby Gardner Concert Hall 1375 Presidents' Circle\, Salt Lake City\, UT\, 84112\, United States
CATEGORIES:Concerts
ATTACH;FMTTYPE=image/png:https://saltlakesymphony.org/wp-content/uploads/2023/07/RequiemInstagramUPDATED-e1712351360303.png
END:VEVENT
END:VCALENDAR