BEGIN:VCALENDAR
VERSION:2.0
PRODID:-//Salt Lake Symphony - ECPv6.15.20//NONSGML v1.0//EN
CALSCALE:GREGORIAN
METHOD:PUBLISH
X-ORIGINAL-URL:https://saltlakesymphony.org
X-WR-CALDESC:Events for Salt Lake Symphony
REFRESH-INTERVAL;VALUE=DURATION:PT1H
X-Robots-Tag:noindex
X-PUBLISHED-TTL:PT1H
BEGIN:VTIMEZONE
TZID:America/Denver
BEGIN:DAYLIGHT
TZOFFSETFROM:-0700
TZOFFSETTO:-0600
TZNAME:MDT
DTSTART:20230312T090000
END:DAYLIGHT
BEGIN:STANDARD
TZOFFSETFROM:-0600
TZOFFSETTO:-0700
TZNAME:MST
DTSTART:20231105T080000
END:STANDARD
BEGIN:DAYLIGHT
TZOFFSETFROM:-0700
TZOFFSETTO:-0600
TZNAME:MDT
DTSTART:20240310T090000
END:DAYLIGHT
BEGIN:STANDARD
TZOFFSETFROM:-0600
TZOFFSETTO:-0700
TZNAME:MST
DTSTART:20241103T080000
END:STANDARD
BEGIN:DAYLIGHT
TZOFFSETFROM:-0700
TZOFFSETTO:-0600
TZNAME:MDT
DTSTART:20250309T090000
END:DAYLIGHT
BEGIN:STANDARD
TZOFFSETFROM:-0600
TZOFFSETTO:-0700
TZNAME:MST
DTSTART:20251102T080000
END:STANDARD
END:VTIMEZONE
BEGIN:VEVENT
DTSTART;TZID=America/Denver:20240630T193000
DTEND;TZID=America/Denver:20240630T193000
DTSTAMP:20260420T150353
CREATED:20240626T200553Z
LAST-MODIFIED:20240626T200554Z
UID:6811-1719775800-1719775800@saltlakesymphony.org
SUMMARY:Salt Lake Symphony in The Park
DESCRIPTION:Get outside and join the Salt Lake Symphony for a concert in the park! Although the fireworks won’t start for another few days\, we’ll present the Music for the Royal Fireworks by George Frederich Handel. Also on the program is Tchaikovsky’s Serenade for Strings.  \n\n\n\nWe’ll play at the Canyon Rim Park Amphitheater near the West Pavilion. Free concert\, no tickets required. Bring your family and enjoy a beautiful evening of music in the park!
URL:https://saltlakesymphony.org/event/salt-lake-symphony-in-the-park/
LOCATION:Canyon Rim Park\, 3100 S 2900 E\, Millcreek\, Utah\, 84109\, United States
CATEGORIES:Concerts
ATTACH;FMTTYPE=image/png:https://saltlakesymphony.org/wp-content/uploads/2024/06/SLS-June-2024-3-e1719431856393.png
END:VEVENT
END:VCALENDAR