BEGIN:VCALENDAR
VERSION:2.0
PRODID:-//Salt Lake Symphony - ECPv6.15.20//NONSGML v1.0//EN
CALSCALE:GREGORIAN
METHOD:PUBLISH
X-WR-CALNAME:Salt Lake Symphony
X-ORIGINAL-URL:https://saltlakesymphony.org
X-WR-CALDESC:Events for Salt Lake Symphony
REFRESH-INTERVAL;VALUE=DURATION:PT1H
X-Robots-Tag:noindex
X-PUBLISHED-TTL:PT1H
BEGIN:VTIMEZONE
TZID:America/Denver
BEGIN:DAYLIGHT
TZOFFSETFROM:-0700
TZOFFSETTO:-0600
TZNAME:MDT
DTSTART:20230312T090000
END:DAYLIGHT
BEGIN:STANDARD
TZOFFSETFROM:-0600
TZOFFSETTO:-0700
TZNAME:MST
DTSTART:20231105T080000
END:STANDARD
BEGIN:DAYLIGHT
TZOFFSETFROM:-0700
TZOFFSETTO:-0600
TZNAME:MDT
DTSTART:20240310T090000
END:DAYLIGHT
BEGIN:STANDARD
TZOFFSETFROM:-0600
TZOFFSETTO:-0700
TZNAME:MST
DTSTART:20241103T080000
END:STANDARD
BEGIN:DAYLIGHT
TZOFFSETFROM:-0700
TZOFFSETTO:-0600
TZNAME:MDT
DTSTART:20250309T090000
END:DAYLIGHT
BEGIN:STANDARD
TZOFFSETFROM:-0600
TZOFFSETTO:-0700
TZNAME:MST
DTSTART:20251102T080000
END:STANDARD
END:VTIMEZONE
BEGIN:VEVENT
DTSTART;TZID=America/Denver:20241102T193000
DTEND;TZID=America/Denver:20241102T193000
DTSTAMP:20260420T073250
CREATED:20240711T213327Z
LAST-MODIFIED:20240820T202815Z
UID:6824-1730575800-1730575800@saltlakesymphony.org
SUMMARY:Shakespeare and the Symphony
DESCRIPTION:Shakespeare has long been as inspiration to all who read\, study\, and perform his works. His exploration of the human condition continues to provide inspiration for artists\, writers\, dancers\, filmmakers\, and composers. In fact\, there is so much classical music inspired by Shakespeare that we could easily do an entire season on just this theme. This concert will also feel different\, with guest actors from the UofU Actor Training Program and SLC’s own Utopia Early Music providing context for the evening of orchestral music inspired by Shakespeare. Prepare yourself to enter another world\, one both unexpected\, yet eerily familiar\, as we feature music inspired by the times and words of the Bard himself. \n\n\n\nProgram: (Shakespearean scenes and musical selections by Utopia Early Music will be interspersed throughout the performance) Felix Mendelssohn: A Midsummer Night’s Dream Overture Antonin Dvorak: Othello Overture William Walton: Death of Falstaff from Henry V Peter Ilyich Tchaikokvsky: Romeo and Juliet Fantasy Overture Mendelssohn: Wedding March from A Midsummer Night’s Dream
URL:https://saltlakesymphony.org/event/shakespeare-and-the-symphony/
LOCATION:Libby Gardner Concert Hall\, Libby Gardner Concert Hall 1375 Presidents' Circle\, Salt Lake City\, UT\, 84112\, United States
CATEGORIES:Concerts
ATTACH;FMTTYPE=image/png:https://saltlakesymphony.org/wp-content/uploads/2024/07/2024-Nov-SLS-e1724184962535.png
END:VEVENT
END:VCALENDAR